BEGIN:VCALENDAR
PRODID:-//nuDatenautomaten//framework iCal4j //DE
VERSION:2.0
CALSCALE:GREGORIAN
BEGIN:VTIMEZONE
TZID:Europe/Berlin
LAST-MODIFIED:20260306T231828Z
TZURL:https://www.tzurl.org/zoneinfo/Europe/Berlin
X-LIC-LOCATION:Europe/Berlin
X-PROLEPTIC-TZNAME:LMT
BEGIN:STANDARD
TZNAME:CET
TZOFFSETFROM:+005328
TZOFFSETTO:+0100
DTSTART:18930401T000000
END:STANDARD
BEGIN:DAYLIGHT
TZNAME:CEST
TZOFFSETFROM:+0100
TZOFFSETTO:+0200
DTSTART:19160430T230000
RDATE:19400401T020000
RDATE:19430329T020000
RDATE:19460414T020000
RDATE:19470406T030000
RDATE:19480418T020000
RDATE:19490410T020000
RDATE:19800406T020000
END:DAYLIGHT
BEGIN:STANDARD
TZNAME:CET
TZOFFSETFROM:+0200
TZOFFSETTO:+0100
DTSTART:19161001T010000
RDATE:19421102T030000
RDATE:19431004T030000
RDATE:19441002T030000
RDATE:19451118T030000
RDATE:19461007T030000
END:STANDARD
BEGIN:DAYLIGHT
TZNAME:CEST
TZOFFSETFROM:+0100
TZOFFSETTO:+0200
DTSTART:19170416T020000
RRULE:FREQ=YEARLY;UNTIL=19180415T010000Z;BYMONTH=4;BYDAY=3MO
END:DAYLIGHT
BEGIN:STANDARD
TZNAME:CET
TZOFFSETFROM:+0200
TZOFFSETTO:+0100
DTSTART:19170917T030000
RRULE:FREQ=YEARLY;UNTIL=19180916T010000Z;BYMONTH=9;BYDAY=3MO
END:STANDARD
BEGIN:DAYLIGHT
TZNAME:CEST
TZOFFSETFROM:+0100
TZOFFSETTO:+0200
DTSTART:19440403T020000
RRULE:FREQ=YEARLY;UNTIL=19450402T010000Z;BYMONTH=4;BYDAY=1MO
END:DAYLIGHT
BEGIN:DAYLIGHT
TZNAME:CEMT
TZOFFSETFROM:+0200
TZOFFSETTO:+0300
DTSTART:19450524T020000
RDATE:19470511T030000
END:DAYLIGHT
BEGIN:DAYLIGHT
TZNAME:CEST
TZOFFSETFROM:+0300
TZOFFSETTO:+0200
DTSTART:19450924T030000
RDATE:19470629T030000
END:DAYLIGHT
BEGIN:STANDARD
TZNAME:CET
TZOFFSETFROM:+0100
TZOFFSETTO:+0100
DTSTART:19460101T000000
RDATE:19800101T000000
END:STANDARD
BEGIN:STANDARD
TZNAME:CET
TZOFFSETFROM:+0200
TZOFFSETTO:+0100
DTSTART:19471005T030000
RRULE:FREQ=YEARLY;UNTIL=19491002T010000Z;BYMONTH=10;BYDAY=1SU
END:STANDARD
BEGIN:STANDARD
TZNAME:CET
TZOFFSETFROM:+0200
TZOFFSETTO:+0100
DTSTART:19800928T030000
RRULE:FREQ=YEARLY;UNTIL=19950924T010000Z;BYMONTH=9;BYDAY=-1SU
END:STANDARD
BEGIN:DAYLIGHT
TZNAME:CEST
TZOFFSETFROM:+0100
TZOFFSETTO:+0200
DTSTART:19810329T020000
RRULE:FREQ=YEARLY;BYMONTH=3;BYDAY=-1SU
END:DAYLIGHT
BEGIN:STANDARD
TZNAME:CET
TZOFFSETFROM:+0200
TZOFFSETTO:+0100
DTSTART:19961027T030000
RRULE:FREQ=YEARLY;BYMONTH=10;BYDAY=-1SU
END:STANDARD
END:VTIMEZONE
BEGIN:VEVENT
DTSTAMP:20260420T055849Z
DTSTART;TZID=Europe/Berlin:20231029T110000
DTEND;TZID=Europe/Berlin:20231029T160000
SUMMARY:2. BL Pool Süd BSV Fürstenfeldbruck vs BSF Kurpfalz (4)
UID:ea508354-e2f8-4f48-971c-a26dd221f91c
STATUS:CONFIRMED
LAST-MODIFIED:20240928T131331Z
DESCRIPTION:2. Bundesliga - Pool Süd\nBegegnungs-Nr: 4\nHeim: BSV Fürstenfeldbruck\nGast: BSF Kurpfalz\n
LOCATION:
CATEGORIES:Saison Pool 2023/24
END:VEVENT
BEGIN:VEVENT
DTSTAMP:20260420T055849Z
DTSTART;TZID=Europe/Berlin:20231209T110000
DTEND;TZID=Europe/Berlin:20231209T160000
SUMMARY:2. BL Pool Süd BSV Fürstenfeldbruck vs 1. PBC Neuwerk (5)
UID:fac2b992-6795-4f27-97d4-6d2f66b85dee
STATUS:CONFIRMED
LAST-MODIFIED:20240928T134233Z
DESCRIPTION:2. Bundesliga - Pool Süd\nBegegnungs-Nr: 5\nHeim: BSV Fürstenfeldbruck\nGast: 1. PBC Neuwerk\n
LOCATION:
CATEGORIES:Saison Pool 2023/24
END:VEVENT
BEGIN:VEVENT
DTSTAMP:20260420T055849Z
DTSTART;TZID=Europe/Berlin:20231210T110000
DTEND;TZID=Europe/Berlin:20231210T160000
SUMMARY:2. BL Pool Süd BSV Fürstenfeldbruck vs BSC Joker Neukirchen-Vluyn (6)
UID:63fafdc1-a750-4cb9-a496-ce858f83bfc6
STATUS:CONFIRMED
LAST-MODIFIED:20240717T103803Z
DESCRIPTION:2. Bundesliga - Pool Süd\nBegegnungs-Nr: 6\nHeim: BSV Fürstenfeldbruck\nGast: BSC Joker Neukirchen-Vluyn\n
LOCATION:
CATEGORIES:Saison Pool 2023/24
END:VEVENT
BEGIN:VEVENT
DTSTAMP:20260420T055849Z
DTSTART;TZID=Europe/Berlin:20240114T110000
DTEND;TZID=Europe/Berlin:20240114T160000
SUMMARY:2. BL Pool Süd BSV Fürstenfeldbruck vs BSV Dachau (8)
UID:7f3fd799-e84c-48b6-8808-f9533fd3887a
STATUS:CONFIRMED
LAST-MODIFIED:20240717T112657Z
DESCRIPTION:2. Bundesliga - Pool Süd\nBegegnungs-Nr: 8\nHeim: BSV Fürstenfeldbruck\nGast: BSV Dachau\n
LOCATION:
CATEGORIES:Saison Pool 2023/24
END:VEVENT
BEGIN:VEVENT
DTSTAMP:20260420T055849Z
DTSTART;TZID=Europe/Berlin:20240309T110000
DTEND;TZID=Europe/Berlin:20240309T160000
SUMMARY:2. BL Pool Süd BSV Fürstenfeldbruck vs 1. BC Saarbrücken (9)
UID:46573ef3-6033-475f-94a6-8185a414eddc
STATUS:CONFIRMED
LAST-MODIFIED:20240717T113017Z
DESCRIPTION:2. Bundesliga - Pool Süd\nBegegnungs-Nr: 9\nHeim: BSV Fürstenfeldbruck\nGast: 1. BC Saarbrücken\n
LOCATION:
CATEGORIES:Saison Pool 2023/24
END:VEVENT
BEGIN:VEVENT
DTSTAMP:20260420T055849Z
DTSTART;TZID=Europe/Berlin:20240310T110000
DTEND;TZID=Europe/Berlin:20240310T160000
SUMMARY:2. BL Pool Süd BSV Fürstenfeldbruck vs PBC Joker Altstadt 2 (10)
UID:c49fb79f-ef83-47bb-a127-f9f923812ea4
STATUS:CONFIRMED
LAST-MODIFIED:20240717T114550Z
DESCRIPTION:2. Bundesliga - Pool Süd\nBegegnungs-Nr: 10\nHeim: BSV Fürstenfeldbruck\nGast: PBC Joker Altstadt 2\n
LOCATION:
CATEGORIES:Saison Pool 2023/24
END:VEVENT
BEGIN:VEVENT
DTSTAMP:20260420T055849Z
DTSTART;TZID=Europe/Berlin:20231028T110000
DTEND;TZID=Europe/Berlin:20231028T160000
SUMMARY:2. BL Pool Süd BSV Fürstenfeldbruck vs PBV Schwetzingen (3)
UID:cc636a99-c4eb-4445-a473-123694b16a0a
STATUS:CONFIRMED
LAST-MODIFIED:20240716T212822Z
DESCRIPTION:2. Bundesliga - Pool Süd\nBegegnungs-Nr: 3\nHeim: BSV Fürstenfeldbruck\nGast: PBV Schwetzingen\n
LOCATION:
CATEGORIES:Saison Pool 2023/24
END:VEVENT
BEGIN:VEVENT
DTSTAMP:20260420T055849Z
DTSTART;TZID=Europe/Berlin:20240113T110000
DTEND;TZID=Europe/Berlin:20240113T160000
SUMMARY:2. BL Pool Süd BSV Dachau vs BSV Fürstenfeldbruck (7)
UID:3953e22c-d875-4cc6-a0f0-23806413be79
STATUS:CONFIRMED
LAST-MODIFIED:20240717T105826Z
DESCRIPTION:2. Bundesliga - Pool Süd\nBegegnungs-Nr: 7\nHeim: BSV Dachau\nGast: BSV Fürstenfeldbruck\n
LOCATION:
CATEGORIES:Saison Pool 2023/24
END:VEVENT
BEGIN:VEVENT
DTSTAMP:20260420T055849Z
DTSTART;TZID=Europe/Berlin:20240421T110000
DTEND;TZID=Europe/Berlin:20240421T160000
SUMMARY:2. BL Pool Süd PBV Schwetzingen vs BSV Fürstenfeldbruck (12)
UID:ffc0e456-f2f6-406f-b8c8-fbbde5b443fc
STATUS:CONFIRMED
LAST-MODIFIED:20240717T180615Z
DESCRIPTION:2. Bundesliga - Pool Süd\nBegegnungs-Nr: 12\nHeim: PBV Schwetzingen\nGast: BSV Fürstenfeldbruck\n
LOCATION:
CATEGORIES:Saison Pool 2023/24
END:VEVENT
BEGIN:VEVENT
DTSTAMP:20260420T055849Z
DTSTART;TZID=Europe/Berlin:20240601T110000
DTEND;TZID=Europe/Berlin:20240601T160000
SUMMARY:2. BL Pool Süd BSC Joker Neukirchen-Vluyn vs BSV Fürstenfeldbruck (13)
UID:5bf9f2e2-394e-44f7-9ccd-8fe7e1861ceb
STATUS:CONFIRMED
LAST-MODIFIED:20240718T053955Z
DESCRIPTION:2. Bundesliga - Pool Süd\nBegegnungs-Nr: 13\nHeim: BSC Joker Neukirchen-Vluyn\nGast: BSV Fürstenfeldbruck\n
LOCATION:
CATEGORIES:Saison Pool 2023/24
END:VEVENT
BEGIN:VEVENT
DTSTAMP:20260420T055849Z
DTSTART;TZID=Europe/Berlin:20240420T110000
DTEND;TZID=Europe/Berlin:20240420T160000
SUMMARY:2. BL Pool Süd BSF Kurpfalz vs BSV Fürstenfeldbruck (11)
UID:d1107545-af5b-422f-90ba-ed2508ee36c3
STATUS:CONFIRMED
LAST-MODIFIED:20240805T071018Z
DESCRIPTION:2. Bundesliga - Pool Süd\nBegegnungs-Nr: 11\nHeim: BSF Kurpfalz\nGast: BSV Fürstenfeldbruck\n
LOCATION:
CATEGORIES:Saison Pool 2023/24
END:VEVENT
BEGIN:VEVENT
DTSTAMP:20260420T055849Z
DTSTART;TZID=Europe/Berlin:20230923T110000
DTEND;TZID=Europe/Berlin:20230923T160000
SUMMARY:2. BL Pool Süd PBC Joker Altstadt 2 vs BSV Fürstenfeldbruck (1)
UID:9604632f-5380-4f08-a65e-e00fe472e792
STATUS:CONFIRMED
LAST-MODIFIED:20240927T120319Z
DESCRIPTION:2. Bundesliga - Pool Süd\nBegegnungs-Nr: 1\nHeim: PBC Joker Altstadt 2\nGast: BSV Fürstenfeldbruck\n
LOCATION:
CATEGORIES:Saison Pool 2023/24
END:VEVENT
BEGIN:VEVENT
DTSTAMP:20260420T055849Z
DTSTART;TZID=Europe/Berlin:20240602T110000
DTEND;TZID=Europe/Berlin:20240602T160000
SUMMARY:2. BL Pool Süd 1. PBC Neuwerk vs BSV Fürstenfeldbruck (14)
UID:3d704d50-37d9-43aa-9f91-db09d38dc12c
STATUS:CONFIRMED
LAST-MODIFIED:20240718T055441Z
DESCRIPTION:2. Bundesliga - Pool Süd\nBegegnungs-Nr: 14\nHeim: 1. PBC Neuwerk\nGast: BSV Fürstenfeldbruck\n
LOCATION:
CATEGORIES:Saison Pool 2023/24
END:VEVENT
BEGIN:VEVENT
DTSTAMP:20260420T055849Z
DTSTART;TZID=Europe/Berlin:20230924T110000
DTEND;TZID=Europe/Berlin:20230924T160000
SUMMARY:2. BL Pool Süd 1. BC Saarbrücken vs BSV Fürstenfeldbruck (2)
UID:3ac11982-50fb-4fa6-a0d8-28942b032e49
STATUS:CONFIRMED
LAST-MODIFIED:20240928T053839Z
DESCRIPTION:2. Bundesliga - Pool Süd\nBegegnungs-Nr: 2\nHeim: 1. BC Saarbrücken\nGast: BSV Fürstenfeldbruck\n
LOCATION:
CATEGORIES:Saison Pool 2023/24
END:VEVENT
END:VCALENDAR
