BEGIN:VCALENDAR
PRODID:-//nuDatenautomaten//framework iCal4j //DE
VERSION:2.0
CALSCALE:GREGORIAN
BEGIN:VTIMEZONE
TZID:Europe/Berlin
LAST-MODIFIED:20260306T231828Z
TZURL:https://www.tzurl.org/zoneinfo/Europe/Berlin
X-LIC-LOCATION:Europe/Berlin
X-PROLEPTIC-TZNAME:LMT
BEGIN:STANDARD
TZNAME:CET
TZOFFSETFROM:+005328
TZOFFSETTO:+0100
DTSTART:18930401T000000
END:STANDARD
BEGIN:DAYLIGHT
TZNAME:CEST
TZOFFSETFROM:+0100
TZOFFSETTO:+0200
DTSTART:19160430T230000
RDATE:19400401T020000
RDATE:19430329T020000
RDATE:19460414T020000
RDATE:19470406T030000
RDATE:19480418T020000
RDATE:19490410T020000
RDATE:19800406T020000
END:DAYLIGHT
BEGIN:STANDARD
TZNAME:CET
TZOFFSETFROM:+0200
TZOFFSETTO:+0100
DTSTART:19161001T010000
RDATE:19421102T030000
RDATE:19431004T030000
RDATE:19441002T030000
RDATE:19451118T030000
RDATE:19461007T030000
END:STANDARD
BEGIN:DAYLIGHT
TZNAME:CEST
TZOFFSETFROM:+0100
TZOFFSETTO:+0200
DTSTART:19170416T020000
RRULE:FREQ=YEARLY;UNTIL=19180415T010000Z;BYMONTH=4;BYDAY=3MO
END:DAYLIGHT
BEGIN:STANDARD
TZNAME:CET
TZOFFSETFROM:+0200
TZOFFSETTO:+0100
DTSTART:19170917T030000
RRULE:FREQ=YEARLY;UNTIL=19180916T010000Z;BYMONTH=9;BYDAY=3MO
END:STANDARD
BEGIN:DAYLIGHT
TZNAME:CEST
TZOFFSETFROM:+0100
TZOFFSETTO:+0200
DTSTART:19440403T020000
RRULE:FREQ=YEARLY;UNTIL=19450402T010000Z;BYMONTH=4;BYDAY=1MO
END:DAYLIGHT
BEGIN:DAYLIGHT
TZNAME:CEMT
TZOFFSETFROM:+0200
TZOFFSETTO:+0300
DTSTART:19450524T020000
RDATE:19470511T030000
END:DAYLIGHT
BEGIN:DAYLIGHT
TZNAME:CEST
TZOFFSETFROM:+0300
TZOFFSETTO:+0200
DTSTART:19450924T030000
RDATE:19470629T030000
END:DAYLIGHT
BEGIN:STANDARD
TZNAME:CET
TZOFFSETFROM:+0100
TZOFFSETTO:+0100
DTSTART:19460101T000000
RDATE:19800101T000000
END:STANDARD
BEGIN:STANDARD
TZNAME:CET
TZOFFSETFROM:+0200
TZOFFSETTO:+0100
DTSTART:19471005T030000
RRULE:FREQ=YEARLY;UNTIL=19491002T010000Z;BYMONTH=10;BYDAY=1SU
END:STANDARD
BEGIN:STANDARD
TZNAME:CET
TZOFFSETFROM:+0200
TZOFFSETTO:+0100
DTSTART:19800928T030000
RRULE:FREQ=YEARLY;UNTIL=19950924T010000Z;BYMONTH=9;BYDAY=-1SU
END:STANDARD
BEGIN:DAYLIGHT
TZNAME:CEST
TZOFFSETFROM:+0100
TZOFFSETTO:+0200
DTSTART:19810329T020000
RRULE:FREQ=YEARLY;BYMONTH=3;BYDAY=-1SU
END:DAYLIGHT
BEGIN:STANDARD
TZNAME:CET
TZOFFSETFROM:+0200
TZOFFSETTO:+0100
DTSTART:19961027T030000
RRULE:FREQ=YEARLY;BYMONTH=10;BYDAY=-1SU
END:STANDARD
END:VTIMEZONE
BEGIN:VEVENT
DTSTAMP:20260420T054507Z
DTSTART;TZID=Europe/Berlin:20231209T110000
DTEND;TZID=Europe/Berlin:20231209T160000
SUMMARY:2. BL Pool Süd BSV Dachau vs BSC Joker Neukirchen-Vluyn (5)
UID:5f9059e6-b8e7-4ff8-96ca-484944f73ff1
STATUS:CONFIRMED
LAST-MODIFIED:20240928T131541Z
DESCRIPTION:2. Bundesliga - Pool Süd\nBegegnungs-Nr: 5\nHeim: BSV Dachau\nGast: BSC Joker Neukirchen-Vluyn\n
LOCATION:
CATEGORIES:Saison Pool 2023/24
END:VEVENT
BEGIN:VEVENT
DTSTAMP:20260420T054507Z
DTSTART;TZID=Europe/Berlin:20231210T110000
DTEND;TZID=Europe/Berlin:20231210T160000
SUMMARY:2. BL Pool Süd BSV Dachau vs 1. PBC Neuwerk (6)
UID:fcbb1e20-f0ee-48b0-9e28-24eac513e2dc
STATUS:CONFIRMED
LAST-MODIFIED:20240717T104748Z
DESCRIPTION:2. Bundesliga - Pool Süd\nBegegnungs-Nr: 6\nHeim: BSV Dachau\nGast: 1. PBC Neuwerk\n
LOCATION:
CATEGORIES:Saison Pool 2023/24
END:VEVENT
BEGIN:VEVENT
DTSTAMP:20260420T054507Z
DTSTART;TZID=Europe/Berlin:20231028T110000
DTEND;TZID=Europe/Berlin:20231028T160000
SUMMARY:2. BL Pool Süd BSV Dachau vs BSF Kurpfalz (3)
UID:27b2a490-4ca9-4d3f-be89-8f8505aade82
STATUS:CONFIRMED
LAST-MODIFIED:20240928T053951Z
DESCRIPTION:2. Bundesliga - Pool Süd\nBegegnungs-Nr: 3\nHeim: BSV Dachau\nGast: BSF Kurpfalz\n
LOCATION:
CATEGORIES:Saison Pool 2023/24
END:VEVENT
BEGIN:VEVENT
DTSTAMP:20260420T054507Z
DTSTART;TZID=Europe/Berlin:20240113T110000
DTEND;TZID=Europe/Berlin:20240113T160000
SUMMARY:2. BL Pool Süd BSV Dachau vs BSV Fürstenfeldbruck (7)
UID:3953e22c-d875-4cc6-a0f0-23806413be79
STATUS:CONFIRMED
LAST-MODIFIED:20240717T105826Z
DESCRIPTION:2. Bundesliga - Pool Süd\nBegegnungs-Nr: 7\nHeim: BSV Dachau\nGast: BSV Fürstenfeldbruck\n
LOCATION:
CATEGORIES:Saison Pool 2023/24
END:VEVENT
BEGIN:VEVENT
DTSTAMP:20260420T054507Z
DTSTART;TZID=Europe/Berlin:20240309T110000
DTEND;TZID=Europe/Berlin:20240309T160000
SUMMARY:2. BL Pool Süd BSV Dachau vs PBC Joker Altstadt 2 (9)
UID:75910189-4895-4a32-a31c-4861d76aace6
STATUS:CONFIRMED
LAST-MODIFIED:20240717T113315Z
DESCRIPTION:2. Bundesliga - Pool Süd\nBegegnungs-Nr: 9\nHeim: BSV Dachau\nGast: PBC Joker Altstadt 2\n
LOCATION:
CATEGORIES:Saison Pool 2023/24
END:VEVENT
BEGIN:VEVENT
DTSTAMP:20260420T054507Z
DTSTART;TZID=Europe/Berlin:20240310T110000
DTEND;TZID=Europe/Berlin:20240310T160000
SUMMARY:2. BL Pool Süd BSV Dachau vs 1. BC Saarbrücken (10)
UID:31aa86e6-feae-4c8d-acc8-ef49cc1e9075
STATUS:CONFIRMED
LAST-MODIFIED:20240717T114250Z
DESCRIPTION:2. Bundesliga - Pool Süd\nBegegnungs-Nr: 10\nHeim: BSV Dachau\nGast: 1. BC Saarbrücken\n
LOCATION:
CATEGORIES:Saison Pool 2023/24
END:VEVENT
BEGIN:VEVENT
DTSTAMP:20260420T054507Z
DTSTART;TZID=Europe/Berlin:20231029T110000
DTEND;TZID=Europe/Berlin:20231029T160000
SUMMARY:2. BL Pool Süd BSV Dachau vs PBV Schwetzingen (4)
UID:2681ac8f-6b79-4d4f-bd5e-f4e96189a95c
STATUS:CONFIRMED
LAST-MODIFIED:20240928T131417Z
DESCRIPTION:2. Bundesliga - Pool Süd\nBegegnungs-Nr: 4\nHeim: BSV Dachau\nGast: PBV Schwetzingen\n
LOCATION:
CATEGORIES:Saison Pool 2023/24
END:VEVENT
BEGIN:VEVENT
DTSTAMP:20260420T054507Z
DTSTART;TZID=Europe/Berlin:20240114T110000
DTEND;TZID=Europe/Berlin:20240114T160000
SUMMARY:2. BL Pool Süd BSV Fürstenfeldbruck vs BSV Dachau (8)
UID:7f3fd799-e84c-48b6-8808-f9533fd3887a
STATUS:CONFIRMED
LAST-MODIFIED:20240717T112657Z
DESCRIPTION:2. Bundesliga - Pool Süd\nBegegnungs-Nr: 8\nHeim: BSV Fürstenfeldbruck\nGast: BSV Dachau\n
LOCATION:
CATEGORIES:Saison Pool 2023/24
END:VEVENT
BEGIN:VEVENT
DTSTAMP:20260420T054507Z
DTSTART;TZID=Europe/Berlin:20240420T110000
DTEND;TZID=Europe/Berlin:20240420T160000
SUMMARY:2. BL Pool Süd PBV Schwetzingen vs BSV Dachau (11)
UID:b097de24-5c7b-4631-b4b9-dd1f3d932c93
STATUS:CONFIRMED
LAST-MODIFIED:20240717T120046Z
DESCRIPTION:2. Bundesliga - Pool Süd\nBegegnungs-Nr: 11\nHeim: PBV Schwetzingen\nGast: BSV Dachau\n
LOCATION:
CATEGORIES:Saison Pool 2023/24
END:VEVENT
BEGIN:VEVENT
DTSTAMP:20260420T054507Z
DTSTART;TZID=Europe/Berlin:20240602T110000
DTEND;TZID=Europe/Berlin:20240602T160000
SUMMARY:2. BL Pool Süd BSC Joker Neukirchen-Vluyn vs BSV Dachau (14)
UID:c6eaabb7-0fec-4bf8-a7e9-ebc4072eaea3
STATUS:CONFIRMED
LAST-MODIFIED:20240718T055150Z
DESCRIPTION:2. Bundesliga - Pool Süd\nBegegnungs-Nr: 14\nHeim: BSC Joker Neukirchen-Vluyn\nGast: BSV Dachau\n
LOCATION:
CATEGORIES:Saison Pool 2023/24
END:VEVENT
BEGIN:VEVENT
DTSTAMP:20260420T054507Z
DTSTART;TZID=Europe/Berlin:20240421T110000
DTEND;TZID=Europe/Berlin:20240421T160000
SUMMARY:2. BL Pool Süd BSF Kurpfalz vs BSV Dachau (12)
UID:2750e6f8-a932-494a-a3f1-3bc4bb4ba959
STATUS:CONFIRMED
LAST-MODIFIED:20240717T180845Z
DESCRIPTION:2. Bundesliga - Pool Süd\nBegegnungs-Nr: 12\nHeim: BSF Kurpfalz\nGast: BSV Dachau\n
LOCATION:
CATEGORIES:Saison Pool 2023/24
END:VEVENT
BEGIN:VEVENT
DTSTAMP:20260420T054507Z
DTSTART;TZID=Europe/Berlin:20230924T110000
DTEND;TZID=Europe/Berlin:20230924T160000
SUMMARY:2. BL Pool Süd PBC Joker Altstadt 2 vs BSV Dachau (2)
UID:3798bd67-1c35-4db0-b175-435d7d728ce7
STATUS:CONFIRMED
LAST-MODIFIED:20240927T120656Z
DESCRIPTION:2. Bundesliga - Pool Süd\nBegegnungs-Nr: 2\nHeim: PBC Joker Altstadt 2\nGast: BSV Dachau\n
LOCATION:
CATEGORIES:Saison Pool 2023/24
END:VEVENT
BEGIN:VEVENT
DTSTAMP:20260420T054507Z
DTSTART;TZID=Europe/Berlin:20240601T110000
DTEND;TZID=Europe/Berlin:20240601T160000
SUMMARY:2. BL Pool Süd 1. PBC Neuwerk vs BSV Dachau (13)
UID:aab0b71b-2f66-4266-9fd1-566a82793e54
STATUS:CONFIRMED
LAST-MODIFIED:20240718T054256Z
DESCRIPTION:2. Bundesliga - Pool Süd\nBegegnungs-Nr: 13\nHeim: 1. PBC Neuwerk\nGast: BSV Dachau\n
LOCATION:
CATEGORIES:Saison Pool 2023/24
END:VEVENT
BEGIN:VEVENT
DTSTAMP:20260420T054507Z
DTSTART;TZID=Europe/Berlin:20230923T110000
DTEND;TZID=Europe/Berlin:20230923T160000
SUMMARY:2. BL Pool Süd 1. BC Saarbrücken vs BSV Dachau (1)
UID:04edfec3-ea08-4fc3-b2da-4d8b092ad37c
STATUS:CONFIRMED
LAST-MODIFIED:20240805T072122Z
DESCRIPTION:2. Bundesliga - Pool Süd\nBegegnungs-Nr: 1\nHeim: 1. BC Saarbrücken\nGast: BSV Dachau\n
LOCATION:
CATEGORIES:Saison Pool 2023/24
END:VEVENT
END:VCALENDAR
