BEGIN:VCALENDAR
PRODID:-//nuDatenautomaten//framework iCal4j //DE
VERSION:2.0
CALSCALE:GREGORIAN
BEGIN:VTIMEZONE
TZID:Europe/Berlin
LAST-MODIFIED:20260306T231828Z
TZURL:https://www.tzurl.org/zoneinfo/Europe/Berlin
X-LIC-LOCATION:Europe/Berlin
X-PROLEPTIC-TZNAME:LMT
BEGIN:STANDARD
TZNAME:CET
TZOFFSETFROM:+005328
TZOFFSETTO:+0100
DTSTART:18930401T000000
END:STANDARD
BEGIN:DAYLIGHT
TZNAME:CEST
TZOFFSETFROM:+0100
TZOFFSETTO:+0200
DTSTART:19160430T230000
RDATE:19400401T020000
RDATE:19430329T020000
RDATE:19460414T020000
RDATE:19470406T030000
RDATE:19480418T020000
RDATE:19490410T020000
RDATE:19800406T020000
END:DAYLIGHT
BEGIN:STANDARD
TZNAME:CET
TZOFFSETFROM:+0200
TZOFFSETTO:+0100
DTSTART:19161001T010000
RDATE:19421102T030000
RDATE:19431004T030000
RDATE:19441002T030000
RDATE:19451118T030000
RDATE:19461007T030000
END:STANDARD
BEGIN:DAYLIGHT
TZNAME:CEST
TZOFFSETFROM:+0100
TZOFFSETTO:+0200
DTSTART:19170416T020000
RRULE:FREQ=YEARLY;UNTIL=19180415T010000Z;BYMONTH=4;BYDAY=3MO
END:DAYLIGHT
BEGIN:STANDARD
TZNAME:CET
TZOFFSETFROM:+0200
TZOFFSETTO:+0100
DTSTART:19170917T030000
RRULE:FREQ=YEARLY;UNTIL=19180916T010000Z;BYMONTH=9;BYDAY=3MO
END:STANDARD
BEGIN:DAYLIGHT
TZNAME:CEST
TZOFFSETFROM:+0100
TZOFFSETTO:+0200
DTSTART:19440403T020000
RRULE:FREQ=YEARLY;UNTIL=19450402T010000Z;BYMONTH=4;BYDAY=1MO
END:DAYLIGHT
BEGIN:DAYLIGHT
TZNAME:CEMT
TZOFFSETFROM:+0200
TZOFFSETTO:+0300
DTSTART:19450524T020000
RDATE:19470511T030000
END:DAYLIGHT
BEGIN:DAYLIGHT
TZNAME:CEST
TZOFFSETFROM:+0300
TZOFFSETTO:+0200
DTSTART:19450924T030000
RDATE:19470629T030000
END:DAYLIGHT
BEGIN:STANDARD
TZNAME:CET
TZOFFSETFROM:+0100
TZOFFSETTO:+0100
DTSTART:19460101T000000
RDATE:19800101T000000
END:STANDARD
BEGIN:STANDARD
TZNAME:CET
TZOFFSETFROM:+0200
TZOFFSETTO:+0100
DTSTART:19471005T030000
RRULE:FREQ=YEARLY;UNTIL=19491002T010000Z;BYMONTH=10;BYDAY=1SU
END:STANDARD
BEGIN:STANDARD
TZNAME:CET
TZOFFSETFROM:+0200
TZOFFSETTO:+0100
DTSTART:19800928T030000
RRULE:FREQ=YEARLY;UNTIL=19950924T010000Z;BYMONTH=9;BYDAY=-1SU
END:STANDARD
BEGIN:DAYLIGHT
TZNAME:CEST
TZOFFSETFROM:+0100
TZOFFSETTO:+0200
DTSTART:19810329T020000
RRULE:FREQ=YEARLY;BYMONTH=3;BYDAY=-1SU
END:DAYLIGHT
BEGIN:STANDARD
TZNAME:CET
TZOFFSETFROM:+0200
TZOFFSETTO:+0100
DTSTART:19961027T030000
RRULE:FREQ=YEARLY;BYMONTH=10;BYDAY=-1SU
END:STANDARD
END:VTIMEZONE
BEGIN:VEVENT
DTSTAMP:20260424T161608Z
DTSTART;TZID=Europe/Berlin:20240114T110000
DTEND;TZID=Europe/Berlin:20240114T160000
SUMMARY:2. BL Pool Süd BSC Joker Neukirchen-Vluyn vs 1. PBC Neuwerk (8)
UID:e9011b3c-e5e0-471f-90f2-9e82c55835e9
STATUS:CONFIRMED
LAST-MODIFIED:20240717T112334Z
DESCRIPTION:2. Bundesliga - Pool Süd\nBegegnungs-Nr: 8\nHeim: BSC Joker Neukirchen-Vluyn\nGast: 1. PBC Neuwerk\n
LOCATION:
CATEGORIES:Saison Pool 2023/24
END:VEVENT
BEGIN:VEVENT
DTSTAMP:20260424T161608Z
DTSTART;TZID=Europe/Berlin:20240601T110000
DTEND;TZID=Europe/Berlin:20240601T160000
SUMMARY:2. BL Pool Süd BSC Joker Neukirchen-Vluyn vs BSV Fürstenfeldbruck (13)
UID:5bf9f2e2-394e-44f7-9ccd-8fe7e1861ceb
STATUS:CONFIRMED
LAST-MODIFIED:20240718T053955Z
DESCRIPTION:2. Bundesliga - Pool Süd\nBegegnungs-Nr: 13\nHeim: BSC Joker Neukirchen-Vluyn\nGast: BSV Fürstenfeldbruck\n
LOCATION:
CATEGORIES:Saison Pool 2023/24
END:VEVENT
BEGIN:VEVENT
DTSTAMP:20260424T161608Z
DTSTART;TZID=Europe/Berlin:20240602T110000
DTEND;TZID=Europe/Berlin:20240602T160000
SUMMARY:2. BL Pool Süd BSC Joker Neukirchen-Vluyn vs BSV Dachau (14)
UID:c6eaabb7-0fec-4bf8-a7e9-ebc4072eaea3
STATUS:CONFIRMED
LAST-MODIFIED:20240718T055150Z
DESCRIPTION:2. Bundesliga - Pool Süd\nBegegnungs-Nr: 14\nHeim: BSC Joker Neukirchen-Vluyn\nGast: BSV Dachau\n
LOCATION:
CATEGORIES:Saison Pool 2023/24
END:VEVENT
BEGIN:VEVENT
DTSTAMP:20260424T161608Z
DTSTART;TZID=Europe/Berlin:20230923T110000
DTEND;TZID=Europe/Berlin:20230923T160000
SUMMARY:2. BL Pool Süd BSC Joker Neukirchen-Vluyn vs PBV Schwetzingen (1)
UID:b8c40b78-defa-477f-934d-41fc625002f3
STATUS:CONFIRMED
LAST-MODIFIED:20240927T120421Z
DESCRIPTION:2. Bundesliga - Pool Süd\nBegegnungs-Nr: 1\nHeim: BSC Joker Neukirchen-Vluyn\nGast: PBV Schwetzingen\n
LOCATION:
CATEGORIES:Saison Pool 2023/24
END:VEVENT
BEGIN:VEVENT
DTSTAMP:20260424T161608Z
DTSTART;TZID=Europe/Berlin:20230924T110000
DTEND;TZID=Europe/Berlin:20230924T160000
SUMMARY:2. BL Pool Süd BSC Joker Neukirchen-Vluyn vs BSF Kurpfalz (2)
UID:2c009fbf-7cb7-4e25-bf72-a67ea4248038
STATUS:CONFIRMED
LAST-MODIFIED:20240928T053429Z
DESCRIPTION:2. Bundesliga - Pool Süd\nBegegnungs-Nr: 2\nHeim: BSC Joker Neukirchen-Vluyn\nGast: BSF Kurpfalz\n
LOCATION:
CATEGORIES:Saison Pool 2023/24
END:VEVENT
BEGIN:VEVENT
DTSTAMP:20260424T161608Z
DTSTART;TZID=Europe/Berlin:20231028T110000
DTEND;TZID=Europe/Berlin:20231028T160000
SUMMARY:2. BL Pool Süd BSC Joker Neukirchen-Vluyn vs PBC Joker Altstadt 2 (3)
UID:9756f7ff-7718-4ae6-9af3-0e21b79a390a
STATUS:CONFIRMED
LAST-MODIFIED:20240928T053909Z
DESCRIPTION:2. Bundesliga - Pool Süd\nBegegnungs-Nr: 3\nHeim: BSC Joker Neukirchen-Vluyn\nGast: PBC Joker Altstadt 2\n
LOCATION:
CATEGORIES:Saison Pool 2023/24
END:VEVENT
BEGIN:VEVENT
DTSTAMP:20260424T161608Z
DTSTART;TZID=Europe/Berlin:20231029T110000
DTEND;TZID=Europe/Berlin:20231029T160000
SUMMARY:2. BL Pool Süd BSC Joker Neukirchen-Vluyn vs 1. BC Saarbrücken (4)
UID:cc42777d-e6d2-4e1d-8d7c-cced00d4d8fd
STATUS:CONFIRMED
LAST-MODIFIED:20240928T131230Z
DESCRIPTION:2. Bundesliga - Pool Süd\nBegegnungs-Nr: 4\nHeim: BSC Joker Neukirchen-Vluyn\nGast: 1. BC Saarbrücken\n
LOCATION:
CATEGORIES:Saison Pool 2023/24
END:VEVENT
BEGIN:VEVENT
DTSTAMP:20260424T161608Z
DTSTART;TZID=Europe/Berlin:20231209T110000
DTEND;TZID=Europe/Berlin:20231209T160000
SUMMARY:2. BL Pool Süd BSV Dachau vs BSC Joker Neukirchen-Vluyn (5)
UID:5f9059e6-b8e7-4ff8-96ca-484944f73ff1
STATUS:CONFIRMED
LAST-MODIFIED:20240928T131541Z
DESCRIPTION:2. Bundesliga - Pool Süd\nBegegnungs-Nr: 5\nHeim: BSV Dachau\nGast: BSC Joker Neukirchen-Vluyn\n
LOCATION:
CATEGORIES:Saison Pool 2023/24
END:VEVENT
BEGIN:VEVENT
DTSTAMP:20260424T161608Z
DTSTART;TZID=Europe/Berlin:20231210T110000
DTEND;TZID=Europe/Berlin:20231210T160000
SUMMARY:2. BL Pool Süd BSV Fürstenfeldbruck vs BSC Joker Neukirchen-Vluyn (6)
UID:63fafdc1-a750-4cb9-a496-ce858f83bfc6
STATUS:CONFIRMED
LAST-MODIFIED:20240717T103803Z
DESCRIPTION:2. Bundesliga - Pool Süd\nBegegnungs-Nr: 6\nHeim: BSV Fürstenfeldbruck\nGast: BSC Joker Neukirchen-Vluyn\n
LOCATION:
CATEGORIES:Saison Pool 2023/24
END:VEVENT
BEGIN:VEVENT
DTSTAMP:20260424T161608Z
DTSTART;TZID=Europe/Berlin:20240113T110000
DTEND;TZID=Europe/Berlin:20240113T160000
SUMMARY:2. BL Pool Süd 1. PBC Neuwerk vs BSC Joker Neukirchen-Vluyn (7)
UID:3f5ecbad-c9f1-47aa-b811-c1b66034cbf0
STATUS:CONFIRMED
LAST-MODIFIED:20240717T105521Z
DESCRIPTION:2. Bundesliga - Pool Süd\nBegegnungs-Nr: 7\nHeim: 1. PBC Neuwerk\nGast: BSC Joker Neukirchen-Vluyn\n
LOCATION:
CATEGORIES:Saison Pool 2023/24
END:VEVENT
BEGIN:VEVENT
DTSTAMP:20260424T161608Z
DTSTART;TZID=Europe/Berlin:20240309T110000
DTEND;TZID=Europe/Berlin:20240309T160000
SUMMARY:2. BL Pool Süd BSF Kurpfalz vs BSC Joker Neukirchen-Vluyn (9)
UID:2a91fc6d-9ab3-40cd-ae2d-cf1361cc30f2
STATUS:CONFIRMED
LAST-MODIFIED:20240717T113535Z
DESCRIPTION:2. Bundesliga - Pool Süd\nBegegnungs-Nr: 9\nHeim: BSF Kurpfalz\nGast: BSC Joker Neukirchen-Vluyn\n
LOCATION:
CATEGORIES:Saison Pool 2023/24
END:VEVENT
BEGIN:VEVENT
DTSTAMP:20260424T161608Z
DTSTART;TZID=Europe/Berlin:20240310T110000
DTEND;TZID=Europe/Berlin:20240310T160000
SUMMARY:2. BL Pool Süd PBV Schwetzingen vs BSC Joker Neukirchen-Vluyn (10)
UID:a5b82fdd-5210-471e-a0c5-7959284641f9
STATUS:CONFIRMED
LAST-MODIFIED:20240717T115056Z
DESCRIPTION:2. Bundesliga - Pool Süd\nBegegnungs-Nr: 10\nHeim: PBV Schwetzingen\nGast: BSC Joker Neukirchen-Vluyn\n
LOCATION:
CATEGORIES:Saison Pool 2023/24
END:VEVENT
BEGIN:VEVENT
DTSTAMP:20260424T161608Z
DTSTART;TZID=Europe/Berlin:20240420T110000
DTEND;TZID=Europe/Berlin:20240420T160000
SUMMARY:2. BL Pool Süd 1. BC Saarbrücken vs BSC Joker Neukirchen-Vluyn (11)
UID:57f6ff0a-bfef-4842-9ae8-4b66af591429
STATUS:CONFIRMED
LAST-MODIFIED:20240717T120504Z
DESCRIPTION:2. Bundesliga - Pool Süd\nBegegnungs-Nr: 11\nHeim: 1. BC Saarbrücken\nGast: BSC Joker Neukirchen-Vluyn\n
LOCATION:
CATEGORIES:Saison Pool 2023/24
END:VEVENT
BEGIN:VEVENT
DTSTAMP:20260424T161608Z
DTSTART;TZID=Europe/Berlin:20240421T110000
DTEND;TZID=Europe/Berlin:20240421T160000
SUMMARY:2. BL Pool Süd PBC Joker Altstadt 2 vs BSC Joker Neukirchen-Vluyn (12)
UID:f51af33f-0611-4e35-b7be-b150bd2a6973
STATUS:CONFIRMED
LAST-MODIFIED:20240717T181423Z
DESCRIPTION:2. Bundesliga - Pool Süd\nBegegnungs-Nr: 12\nHeim: PBC Joker Altstadt 2\nGast: BSC Joker Neukirchen-Vluyn\n
LOCATION:
CATEGORIES:Saison Pool 2023/24
END:VEVENT
END:VCALENDAR
