BEGIN:VCALENDAR
PRODID:-//nuDatenautomaten//framework iCal4j //DE
VERSION:2.0
CALSCALE:GREGORIAN
BEGIN:VTIMEZONE
TZID:Europe/Berlin
LAST-MODIFIED:20260306T231828Z
TZURL:https://www.tzurl.org/zoneinfo/Europe/Berlin
X-LIC-LOCATION:Europe/Berlin
X-PROLEPTIC-TZNAME:LMT
BEGIN:STANDARD
TZNAME:CET
TZOFFSETFROM:+005328
TZOFFSETTO:+0100
DTSTART:18930401T000000
END:STANDARD
BEGIN:DAYLIGHT
TZNAME:CEST
TZOFFSETFROM:+0100
TZOFFSETTO:+0200
DTSTART:19160430T230000
RDATE:19400401T020000
RDATE:19430329T020000
RDATE:19460414T020000
RDATE:19470406T030000
RDATE:19480418T020000
RDATE:19490410T020000
RDATE:19800406T020000
END:DAYLIGHT
BEGIN:STANDARD
TZNAME:CET
TZOFFSETFROM:+0200
TZOFFSETTO:+0100
DTSTART:19161001T010000
RDATE:19421102T030000
RDATE:19431004T030000
RDATE:19441002T030000
RDATE:19451118T030000
RDATE:19461007T030000
END:STANDARD
BEGIN:DAYLIGHT
TZNAME:CEST
TZOFFSETFROM:+0100
TZOFFSETTO:+0200
DTSTART:19170416T020000
RRULE:FREQ=YEARLY;UNTIL=19180415T010000Z;BYMONTH=4;BYDAY=3MO
END:DAYLIGHT
BEGIN:STANDARD
TZNAME:CET
TZOFFSETFROM:+0200
TZOFFSETTO:+0100
DTSTART:19170917T030000
RRULE:FREQ=YEARLY;UNTIL=19180916T010000Z;BYMONTH=9;BYDAY=3MO
END:STANDARD
BEGIN:DAYLIGHT
TZNAME:CEST
TZOFFSETFROM:+0100
TZOFFSETTO:+0200
DTSTART:19440403T020000
RRULE:FREQ=YEARLY;UNTIL=19450402T010000Z;BYMONTH=4;BYDAY=1MO
END:DAYLIGHT
BEGIN:DAYLIGHT
TZNAME:CEMT
TZOFFSETFROM:+0200
TZOFFSETTO:+0300
DTSTART:19450524T020000
RDATE:19470511T030000
END:DAYLIGHT
BEGIN:DAYLIGHT
TZNAME:CEST
TZOFFSETFROM:+0300
TZOFFSETTO:+0200
DTSTART:19450924T030000
RDATE:19470629T030000
END:DAYLIGHT
BEGIN:STANDARD
TZNAME:CET
TZOFFSETFROM:+0100
TZOFFSETTO:+0100
DTSTART:19460101T000000
RDATE:19800101T000000
END:STANDARD
BEGIN:STANDARD
TZNAME:CET
TZOFFSETFROM:+0200
TZOFFSETTO:+0100
DTSTART:19471005T030000
RRULE:FREQ=YEARLY;UNTIL=19491002T010000Z;BYMONTH=10;BYDAY=1SU
END:STANDARD
BEGIN:STANDARD
TZNAME:CET
TZOFFSETFROM:+0200
TZOFFSETTO:+0100
DTSTART:19800928T030000
RRULE:FREQ=YEARLY;UNTIL=19950924T010000Z;BYMONTH=9;BYDAY=-1SU
END:STANDARD
BEGIN:DAYLIGHT
TZNAME:CEST
TZOFFSETFROM:+0100
TZOFFSETTO:+0200
DTSTART:19810329T020000
RRULE:FREQ=YEARLY;BYMONTH=3;BYDAY=-1SU
END:DAYLIGHT
BEGIN:STANDARD
TZNAME:CET
TZOFFSETFROM:+0200
TZOFFSETTO:+0100
DTSTART:19961027T030000
RRULE:FREQ=YEARLY;BYMONTH=10;BYDAY=-1SU
END:STANDARD
END:VTIMEZONE
BEGIN:VEVENT
DTSTAMP:20260420T094234Z
DTSTART;TZID=Europe/Berlin:20231209T110000
DTEND;TZID=Europe/Berlin:20231209T160000
SUMMARY:2. BL Pool Süd BSF Kurpfalz vs 1. BC Saarbrücken (5)
UID:fead3a8e-698b-4427-a6fe-56daf2c4f5d0
STATUS:CONFIRMED
LAST-MODIFIED:20240928T134259Z
DESCRIPTION:2. Bundesliga - Pool Süd\nBegegnungs-Nr: 5\nHeim: BSF Kurpfalz\nGast: 1. BC Saarbrücken\n
LOCATION:
CATEGORIES:Saison Pool 2023/24
END:VEVENT
BEGIN:VEVENT
DTSTAMP:20260420T094234Z
DTSTART;TZID=Europe/Berlin:20231210T110000
DTEND;TZID=Europe/Berlin:20231210T160000
SUMMARY:2. BL Pool Süd BSF Kurpfalz vs PBC Joker Altstadt 2 (6)
UID:4872abb0-e856-401d-b504-ff394bad2985
STATUS:CONFIRMED
LAST-MODIFIED:20240717T103208Z
DESCRIPTION:2. Bundesliga - Pool Süd\nBegegnungs-Nr: 6\nHeim: BSF Kurpfalz\nGast: PBC Joker Altstadt 2\n
LOCATION:
CATEGORIES:Saison Pool 2023/24
END:VEVENT
BEGIN:VEVENT
DTSTAMP:20260420T094234Z
DTSTART;TZID=Europe/Berlin:20240113T110000
DTEND;TZID=Europe/Berlin:20240113T160000
SUMMARY:2. BL Pool Süd BSF Kurpfalz vs PBV Schwetzingen (7)
UID:4532049c-d444-47cf-84c4-b834c4ec0d2c
STATUS:CONFIRMED
LAST-MODIFIED:20240717T105247Z
DESCRIPTION:2. Bundesliga - Pool Süd\nBegegnungs-Nr: 7\nHeim: BSF Kurpfalz\nGast: PBV Schwetzingen\n
LOCATION:
CATEGORIES:Saison Pool 2023/24
END:VEVENT
BEGIN:VEVENT
DTSTAMP:20260420T094234Z
DTSTART;TZID=Europe/Berlin:20240309T110000
DTEND;TZID=Europe/Berlin:20240309T160000
SUMMARY:2. BL Pool Süd BSF Kurpfalz vs BSC Joker Neukirchen-Vluyn (9)
UID:2a91fc6d-9ab3-40cd-ae2d-cf1361cc30f2
STATUS:CONFIRMED
LAST-MODIFIED:20240717T113535Z
DESCRIPTION:2. Bundesliga - Pool Süd\nBegegnungs-Nr: 9\nHeim: BSF Kurpfalz\nGast: BSC Joker Neukirchen-Vluyn\n
LOCATION:
CATEGORIES:Saison Pool 2023/24
END:VEVENT
BEGIN:VEVENT
DTSTAMP:20260420T094234Z
DTSTART;TZID=Europe/Berlin:20240310T110000
DTEND;TZID=Europe/Berlin:20240310T160000
SUMMARY:2. BL Pool Süd BSF Kurpfalz vs 1. PBC Neuwerk (10)
UID:44bc5a17-b80e-4b3c-a068-c53920a0c419
STATUS:CONFIRMED
LAST-MODIFIED:20240717T114826Z
DESCRIPTION:2. Bundesliga - Pool Süd\nBegegnungs-Nr: 10\nHeim: BSF Kurpfalz\nGast: 1. PBC Neuwerk\n
LOCATION:
CATEGORIES:Saison Pool 2023/24
END:VEVENT
BEGIN:VEVENT
DTSTAMP:20260420T094234Z
DTSTART;TZID=Europe/Berlin:20240420T110000
DTEND;TZID=Europe/Berlin:20240420T160000
SUMMARY:2. BL Pool Süd BSF Kurpfalz vs BSV Fürstenfeldbruck (11)
UID:d1107545-af5b-422f-90ba-ed2508ee36c3
STATUS:CONFIRMED
LAST-MODIFIED:20240805T071018Z
DESCRIPTION:2. Bundesliga - Pool Süd\nBegegnungs-Nr: 11\nHeim: BSF Kurpfalz\nGast: BSV Fürstenfeldbruck\n
LOCATION:
CATEGORIES:Saison Pool 2023/24
END:VEVENT
BEGIN:VEVENT
DTSTAMP:20260420T094234Z
DTSTART;TZID=Europe/Berlin:20240421T110000
DTEND;TZID=Europe/Berlin:20240421T160000
SUMMARY:2. BL Pool Süd BSF Kurpfalz vs BSV Dachau (12)
UID:2750e6f8-a932-494a-a3f1-3bc4bb4ba959
STATUS:CONFIRMED
LAST-MODIFIED:20240717T180845Z
DESCRIPTION:2. Bundesliga - Pool Süd\nBegegnungs-Nr: 12\nHeim: BSF Kurpfalz\nGast: BSV Dachau\n
LOCATION:
CATEGORIES:Saison Pool 2023/24
END:VEVENT
BEGIN:VEVENT
DTSTAMP:20260420T094234Z
DTSTART;TZID=Europe/Berlin:20231028T110000
DTEND;TZID=Europe/Berlin:20231028T160000
SUMMARY:2. BL Pool Süd BSV Dachau vs BSF Kurpfalz (3)
UID:27b2a490-4ca9-4d3f-be89-8f8505aade82
STATUS:CONFIRMED
LAST-MODIFIED:20240928T053951Z
DESCRIPTION:2. Bundesliga - Pool Süd\nBegegnungs-Nr: 3\nHeim: BSV Dachau\nGast: BSF Kurpfalz\n
LOCATION:
CATEGORIES:Saison Pool 2023/24
END:VEVENT
BEGIN:VEVENT
DTSTAMP:20260420T094234Z
DTSTART;TZID=Europe/Berlin:20231029T110000
DTEND;TZID=Europe/Berlin:20231029T160000
SUMMARY:2. BL Pool Süd BSV Fürstenfeldbruck vs BSF Kurpfalz (4)
UID:ea508354-e2f8-4f48-971c-a26dd221f91c
STATUS:CONFIRMED
LAST-MODIFIED:20240928T131331Z
DESCRIPTION:2. Bundesliga - Pool Süd\nBegegnungs-Nr: 4\nHeim: BSV Fürstenfeldbruck\nGast: BSF Kurpfalz\n
LOCATION:
CATEGORIES:Saison Pool 2023/24
END:VEVENT
BEGIN:VEVENT
DTSTAMP:20260420T094234Z
DTSTART;TZID=Europe/Berlin:20240114T110000
DTEND;TZID=Europe/Berlin:20240114T160000
SUMMARY:2. BL Pool Süd PBV Schwetzingen vs BSF Kurpfalz (8)
UID:5086512f-ccaf-471c-b165-996e2e338a69
STATUS:CONFIRMED
LAST-MODIFIED:20240717T111824Z
DESCRIPTION:2. Bundesliga - Pool Süd\nBegegnungs-Nr: 8\nHeim: PBV Schwetzingen\nGast: BSF Kurpfalz\n
LOCATION:
CATEGORIES:Saison Pool 2023/24
END:VEVENT
BEGIN:VEVENT
DTSTAMP:20260420T094234Z
DTSTART;TZID=Europe/Berlin:20230924T110000
DTEND;TZID=Europe/Berlin:20230924T160000
SUMMARY:2. BL Pool Süd BSC Joker Neukirchen-Vluyn vs BSF Kurpfalz (2)
UID:2c009fbf-7cb7-4e25-bf72-a67ea4248038
STATUS:CONFIRMED
LAST-MODIFIED:20240928T053429Z
DESCRIPTION:2. Bundesliga - Pool Süd\nBegegnungs-Nr: 2\nHeim: BSC Joker Neukirchen-Vluyn\nGast: BSF Kurpfalz\n
LOCATION:
CATEGORIES:Saison Pool 2023/24
END:VEVENT
BEGIN:VEVENT
DTSTAMP:20260420T094234Z
DTSTART;TZID=Europe/Berlin:20240602T110000
DTEND;TZID=Europe/Berlin:20240602T160000
SUMMARY:2. BL Pool Süd PBC Joker Altstadt 2 vs BSF Kurpfalz (14)
UID:8f9cbc95-79bb-4fc3-8f1e-0cd3b0d68174
STATUS:CONFIRMED
LAST-MODIFIED:20240718T055955Z
DESCRIPTION:2. Bundesliga - Pool Süd\nBegegnungs-Nr: 14\nHeim: PBC Joker Altstadt 2\nGast: BSF Kurpfalz\n
LOCATION:
CATEGORIES:Saison Pool 2023/24
END:VEVENT
BEGIN:VEVENT
DTSTAMP:20260420T094234Z
DTSTART;TZID=Europe/Berlin:20230923T110000
DTEND;TZID=Europe/Berlin:20230923T160000
SUMMARY:2. BL Pool Süd 1. PBC Neuwerk vs BSF Kurpfalz (1)
UID:f4315fce-5c4c-409c-98b7-bddea0a93286
STATUS:CONFIRMED
LAST-MODIFIED:20240927T120359Z
DESCRIPTION:2. Bundesliga - Pool Süd\nBegegnungs-Nr: 1\nHeim: 1. PBC Neuwerk\nGast: BSF Kurpfalz\n
LOCATION:
CATEGORIES:Saison Pool 2023/24
END:VEVENT
BEGIN:VEVENT
DTSTAMP:20260420T094234Z
DTSTART;TZID=Europe/Berlin:20240601T110000
DTEND;TZID=Europe/Berlin:20240601T160000
SUMMARY:2. BL Pool Süd 1. BC Saarbrücken vs BSF Kurpfalz (13)
UID:7e01c71f-c4dd-46c1-a89b-cb76054aa192
STATUS:CONFIRMED
LAST-MODIFIED:20240718T054527Z
DESCRIPTION:2. Bundesliga - Pool Süd\nBegegnungs-Nr: 13\nHeim: 1. BC Saarbrücken\nGast: BSF Kurpfalz\n
LOCATION:
CATEGORIES:Saison Pool 2023/24
END:VEVENT
END:VCALENDAR
