BEGIN:VCALENDAR
PRODID:-//nuDatenautomaten//framework iCal4j //DE
VERSION:2.0
CALSCALE:GREGORIAN
BEGIN:VTIMEZONE
TZID:Europe/Berlin
LAST-MODIFIED:20260306T231828Z
TZURL:https://www.tzurl.org/zoneinfo/Europe/Berlin
X-LIC-LOCATION:Europe/Berlin
X-PROLEPTIC-TZNAME:LMT
BEGIN:STANDARD
TZNAME:CET
TZOFFSETFROM:+005328
TZOFFSETTO:+0100
DTSTART:18930401T000000
END:STANDARD
BEGIN:DAYLIGHT
TZNAME:CEST
TZOFFSETFROM:+0100
TZOFFSETTO:+0200
DTSTART:19160430T230000
RDATE:19400401T020000
RDATE:19430329T020000
RDATE:19460414T020000
RDATE:19470406T030000
RDATE:19480418T020000
RDATE:19490410T020000
RDATE:19800406T020000
END:DAYLIGHT
BEGIN:STANDARD
TZNAME:CET
TZOFFSETFROM:+0200
TZOFFSETTO:+0100
DTSTART:19161001T010000
RDATE:19421102T030000
RDATE:19431004T030000
RDATE:19441002T030000
RDATE:19451118T030000
RDATE:19461007T030000
END:STANDARD
BEGIN:DAYLIGHT
TZNAME:CEST
TZOFFSETFROM:+0100
TZOFFSETTO:+0200
DTSTART:19170416T020000
RRULE:FREQ=YEARLY;UNTIL=19180415T010000Z;BYMONTH=4;BYDAY=3MO
END:DAYLIGHT
BEGIN:STANDARD
TZNAME:CET
TZOFFSETFROM:+0200
TZOFFSETTO:+0100
DTSTART:19170917T030000
RRULE:FREQ=YEARLY;UNTIL=19180916T010000Z;BYMONTH=9;BYDAY=3MO
END:STANDARD
BEGIN:DAYLIGHT
TZNAME:CEST
TZOFFSETFROM:+0100
TZOFFSETTO:+0200
DTSTART:19440403T020000
RRULE:FREQ=YEARLY;UNTIL=19450402T010000Z;BYMONTH=4;BYDAY=1MO
END:DAYLIGHT
BEGIN:DAYLIGHT
TZNAME:CEMT
TZOFFSETFROM:+0200
TZOFFSETTO:+0300
DTSTART:19450524T020000
RDATE:19470511T030000
END:DAYLIGHT
BEGIN:DAYLIGHT
TZNAME:CEST
TZOFFSETFROM:+0300
TZOFFSETTO:+0200
DTSTART:19450924T030000
RDATE:19470629T030000
END:DAYLIGHT
BEGIN:STANDARD
TZNAME:CET
TZOFFSETFROM:+0100
TZOFFSETTO:+0100
DTSTART:19460101T000000
RDATE:19800101T000000
END:STANDARD
BEGIN:STANDARD
TZNAME:CET
TZOFFSETFROM:+0200
TZOFFSETTO:+0100
DTSTART:19471005T030000
RRULE:FREQ=YEARLY;UNTIL=19491002T010000Z;BYMONTH=10;BYDAY=1SU
END:STANDARD
BEGIN:STANDARD
TZNAME:CET
TZOFFSETFROM:+0200
TZOFFSETTO:+0100
DTSTART:19800928T030000
RRULE:FREQ=YEARLY;UNTIL=19950924T010000Z;BYMONTH=9;BYDAY=-1SU
END:STANDARD
BEGIN:DAYLIGHT
TZNAME:CEST
TZOFFSETFROM:+0100
TZOFFSETTO:+0200
DTSTART:19810329T020000
RRULE:FREQ=YEARLY;BYMONTH=3;BYDAY=-1SU
END:DAYLIGHT
BEGIN:STANDARD
TZNAME:CET
TZOFFSETFROM:+0200
TZOFFSETTO:+0100
DTSTART:19961027T030000
RRULE:FREQ=YEARLY;BYMONTH=10;BYDAY=-1SU
END:STANDARD
END:VTIMEZONE
BEGIN:VEVENT
DTSTAMP:20260420T115055Z
DTSTART;TZID=Europe/Berlin:20230923T140000
DTEND;TZID=Europe/Berlin:20230923T190000
SUMMARY:RL-Pool-Süd BC Aalen vs PBC Jägersburg (1)
UID:e9010e34-0ead-4237-b474-487c45ac6052
STATUS:CONFIRMED
LAST-MODIFIED:20240927T110827Z
DESCRIPTION:Regionalliga - Pool Süd\nBegegnungs-Nr: 1\nHeim: BC Aalen\nGast: PBC Jägersburg\n
LOCATION:
CATEGORIES:Saison Pool 2023/24
END:VEVENT
BEGIN:VEVENT
DTSTAMP:20260420T115055Z
DTSTART;TZID=Europe/Berlin:20230924T110000
DTEND;TZID=Europe/Berlin:20230924T160000
SUMMARY:RL-Pool-Süd BC Aalen vs BF Wattweiler (2)
UID:7d8454d5-3428-4055-8ff1-521a9368a2aa
STATUS:CONFIRMED
LAST-MODIFIED:20240927T110907Z
DESCRIPTION:Regionalliga - Pool Süd\nBegegnungs-Nr: 2\nHeim: BC Aalen\nGast: BF Wattweiler\n
LOCATION:
CATEGORIES:Saison Pool 2023/24
END:VEVENT
BEGIN:VEVENT
DTSTAMP:20260420T115055Z
DTSTART;TZID=Europe/Berlin:20231209T140000
DTEND;TZID=Europe/Berlin:20231209T190000
SUMMARY:RL-Pool-Süd BC Aalen vs PBC Offenburg (5)
UID:5fe1529f-0498-41a2-9298-9560c26ebea9
STATUS:CONFIRMED
LAST-MODIFIED:20240927T113123Z
DESCRIPTION:Regionalliga - Pool Süd\nBegegnungs-Nr: 5\nHeim: BC Aalen\nGast: PBC Offenburg\n
LOCATION:
CATEGORIES:Saison Pool 2023/24
END:VEVENT
BEGIN:VEVENT
DTSTAMP:20260420T115055Z
DTSTART;TZID=Europe/Berlin:20240113T140000
DTEND;TZID=Europe/Berlin:20240113T190000
SUMMARY:RL-Pool-Süd BC Aalen vs BSC Martinsried (7)
UID:cf72d137-776d-4555-917c-6727648bc255
STATUS:CONFIRMED
LAST-MODIFIED:20240927T113727Z
DESCRIPTION:Regionalliga - Pool Süd\nBegegnungs-Nr: 7\nHeim: BC Aalen\nGast: BSC Martinsried\n
LOCATION:
CATEGORIES:Saison Pool 2023/24
END:VEVENT
BEGIN:VEVENT
DTSTAMP:20260420T115055Z
DTSTART;TZID=Europe/Berlin:20231210T110000
DTEND;TZID=Europe/Berlin:20231210T160000
SUMMARY:RL-Pool-Süd BC Aalen vs BC Sindelfingen (6)
UID:b697e464-cd2b-4bf0-a4a7-f684ee2d1384
STATUS:CONFIRMED
LAST-MODIFIED:20240927T113423Z
DESCRIPTION:Regionalliga - Pool Süd\nBegegnungs-Nr: 6\nHeim: BC Aalen\nGast: BC Sindelfingen\n
LOCATION:
CATEGORIES:Saison Pool 2023/24
END:VEVENT
BEGIN:VEVENT
DTSTAMP:20260420T115055Z
DTSTART;TZID=Europe/Berlin:20240420T140000
DTEND;TZID=Europe/Berlin:20240420T190000
SUMMARY:RL-Pool-Süd BC Aalen vs BC Stuttgart 1891 (11)
UID:49fa8667-4768-4472-982d-41daec8044b9
STATUS:CONFIRMED
LAST-MODIFIED:20240927T115210Z
DESCRIPTION:Regionalliga - Pool Süd\nBegegnungs-Nr: 11\nHeim: BC Aalen\nGast: BC Stuttgart 1891\n
LOCATION:
CATEGORIES:Saison Pool 2023/24
END:VEVENT
BEGIN:VEVENT
DTSTAMP:20260420T115055Z
DTSTART;TZID=Europe/Berlin:20240421T110000
DTEND;TZID=Europe/Berlin:20240421T160000
SUMMARY:RL-Pool-Süd BC Aalen vs BSV Filderstadt (12)
UID:c952232c-c985-4234-9659-1a8f187242bf
STATUS:CONFIRMED
LAST-MODIFIED:20240927T115518Z
DESCRIPTION:Regionalliga - Pool Süd\nBegegnungs-Nr: 12\nHeim: BC Aalen\nGast: BSV Filderstadt\n
LOCATION:
CATEGORIES:Saison Pool 2023/24
END:VEVENT
BEGIN:VEVENT
DTSTAMP:20260420T115055Z
DTSTART;TZID=Europe/Berlin:20240114T110000
DTEND;TZID=Europe/Berlin:20240114T160000
SUMMARY:RL-Pool-Süd BSC Martinsried vs BC Aalen (8)
UID:600ce328-7813-428d-a37d-7f1329ebaa58
STATUS:CONFIRMED
LAST-MODIFIED:20240728T125437Z
DESCRIPTION:Regionalliga - Pool Süd\nBegegnungs-Nr: 8\nHeim: BSC Martinsried\nGast: BC Aalen\n
LOCATION:
CATEGORIES:Saison Pool 2023/24
END:VEVENT
BEGIN:VEVENT
DTSTAMP:20260420T115055Z
DTSTART;TZID=Europe/Berlin:20231028T140000
DTEND;TZID=Europe/Berlin:20231028T190000
SUMMARY:RL-Pool-Süd BSV Filderstadt vs BC Aalen (3)
UID:4ed3a111-602e-4966-9ac0-dac108642244
STATUS:CONFIRMED
LAST-MODIFIED:20240927T112318Z
DESCRIPTION:Regionalliga - Pool Süd\nBegegnungs-Nr: 3\nHeim: BSV Filderstadt\nGast: BC Aalen\n
LOCATION:
CATEGORIES:Saison Pool 2023/24
END:VEVENT
BEGIN:VEVENT
DTSTAMP:20260420T115055Z
DTSTART;TZID=Europe/Berlin:20240602T110000
DTEND;TZID=Europe/Berlin:20240602T160000
SUMMARY:RL-Pool-Süd BC Sindelfingen vs BC Aalen (14)
UID:aa9dda42-0c20-4ad5-b107-2b93145c51af
STATUS:CONFIRMED
LAST-MODIFIED:20240927T115941Z
DESCRIPTION:Regionalliga - Pool Süd\nBegegnungs-Nr: 14\nHeim: BC Sindelfingen\nGast: BC Aalen\n
LOCATION:
CATEGORIES:Saison Pool 2023/24
END:VEVENT
BEGIN:VEVENT
DTSTAMP:20260420T115055Z
DTSTART;TZID=Europe/Berlin:20240310T110000
DTEND;TZID=Europe/Berlin:20240310T160000
SUMMARY:RL-Pool-Süd PBC Jägersburg vs BC Aalen (10)
UID:5b7467fe-8576-4c67-9d0e-d2727a7231f8
STATUS:CONFIRMED
LAST-MODIFIED:20240927T114841Z
DESCRIPTION:Regionalliga - Pool Süd\nBegegnungs-Nr: 10\nHeim: PBC Jägersburg\nGast: BC Aalen\n
LOCATION:
CATEGORIES:Saison Pool 2023/24
END:VEVENT
BEGIN:VEVENT
DTSTAMP:20260420T115055Z
DTSTART;TZID=Europe/Berlin:20240601T140000
DTEND;TZID=Europe/Berlin:20240601T190000
SUMMARY:RL-Pool-Süd PBC Offenburg vs BC Aalen (13)
UID:c534a34f-5fb2-4b16-beb6-6003865a8c8e
STATUS:CONFIRMED
LAST-MODIFIED:20240927T115744Z
DESCRIPTION:Regionalliga - Pool Süd\nBegegnungs-Nr: 13\nHeim: PBC Offenburg\nGast: BC Aalen\n
LOCATION:
CATEGORIES:Saison Pool 2023/24
END:VEVENT
BEGIN:VEVENT
DTSTAMP:20260420T115055Z
DTSTART;TZID=Europe/Berlin:20240309T140000
DTEND;TZID=Europe/Berlin:20240309T190000
SUMMARY:RL-Pool-Süd BF Wattweiler vs BC Aalen (9)
UID:af61a159-40ad-498c-96be-d3b62597084e
STATUS:CONFIRMED
LAST-MODIFIED:20240927T114430Z
DESCRIPTION:Regionalliga - Pool Süd\nBegegnungs-Nr: 9\nHeim: BF Wattweiler\nGast: BC Aalen\n
LOCATION:
CATEGORIES:Saison Pool 2023/24
END:VEVENT
BEGIN:VEVENT
DTSTAMP:20260420T115055Z
DTSTART;TZID=Europe/Berlin:20231029T110000
DTEND;TZID=Europe/Berlin:20231029T160000
SUMMARY:RL-Pool-Süd BC Stuttgart 1891 vs BC Aalen (4)
UID:8be6f2ad-1f5c-489d-9413-59c3475db6e6
STATUS:CONFIRMED
LAST-MODIFIED:20240927T113047Z
DESCRIPTION:Regionalliga - Pool Süd\nBegegnungs-Nr: 4\nHeim: BC Stuttgart 1891\nGast: BC Aalen\n
LOCATION:
CATEGORIES:Saison Pool 2023/24
END:VEVENT
END:VCALENDAR
