BEGIN:VCALENDAR
PRODID:-//nuDatenautomaten//framework iCal4j //DE
VERSION:2.0
CALSCALE:GREGORIAN
BEGIN:VTIMEZONE
TZID:Europe/Berlin
LAST-MODIFIED:20260306T231828Z
TZURL:https://www.tzurl.org/zoneinfo/Europe/Berlin
X-LIC-LOCATION:Europe/Berlin
X-PROLEPTIC-TZNAME:LMT
BEGIN:STANDARD
TZNAME:CET
TZOFFSETFROM:+005328
TZOFFSETTO:+0100
DTSTART:18930401T000000
END:STANDARD
BEGIN:DAYLIGHT
TZNAME:CEST
TZOFFSETFROM:+0100
TZOFFSETTO:+0200
DTSTART:19160430T230000
RDATE:19400401T020000
RDATE:19430329T020000
RDATE:19460414T020000
RDATE:19470406T030000
RDATE:19480418T020000
RDATE:19490410T020000
RDATE:19800406T020000
END:DAYLIGHT
BEGIN:STANDARD
TZNAME:CET
TZOFFSETFROM:+0200
TZOFFSETTO:+0100
DTSTART:19161001T010000
RDATE:19421102T030000
RDATE:19431004T030000
RDATE:19441002T030000
RDATE:19451118T030000
RDATE:19461007T030000
END:STANDARD
BEGIN:DAYLIGHT
TZNAME:CEST
TZOFFSETFROM:+0100
TZOFFSETTO:+0200
DTSTART:19170416T020000
RRULE:FREQ=YEARLY;UNTIL=19180415T010000Z;BYMONTH=4;BYDAY=3MO
END:DAYLIGHT
BEGIN:STANDARD
TZNAME:CET
TZOFFSETFROM:+0200
TZOFFSETTO:+0100
DTSTART:19170917T030000
RRULE:FREQ=YEARLY;UNTIL=19180916T010000Z;BYMONTH=9;BYDAY=3MO
END:STANDARD
BEGIN:DAYLIGHT
TZNAME:CEST
TZOFFSETFROM:+0100
TZOFFSETTO:+0200
DTSTART:19440403T020000
RRULE:FREQ=YEARLY;UNTIL=19450402T010000Z;BYMONTH=4;BYDAY=1MO
END:DAYLIGHT
BEGIN:DAYLIGHT
TZNAME:CEMT
TZOFFSETFROM:+0200
TZOFFSETTO:+0300
DTSTART:19450524T020000
RDATE:19470511T030000
END:DAYLIGHT
BEGIN:DAYLIGHT
TZNAME:CEST
TZOFFSETFROM:+0300
TZOFFSETTO:+0200
DTSTART:19450924T030000
RDATE:19470629T030000
END:DAYLIGHT
BEGIN:STANDARD
TZNAME:CET
TZOFFSETFROM:+0100
TZOFFSETTO:+0100
DTSTART:19460101T000000
RDATE:19800101T000000
END:STANDARD
BEGIN:STANDARD
TZNAME:CET
TZOFFSETFROM:+0200
TZOFFSETTO:+0100
DTSTART:19471005T030000
RRULE:FREQ=YEARLY;UNTIL=19491002T010000Z;BYMONTH=10;BYDAY=1SU
END:STANDARD
BEGIN:STANDARD
TZNAME:CET
TZOFFSETFROM:+0200
TZOFFSETTO:+0100
DTSTART:19800928T030000
RRULE:FREQ=YEARLY;UNTIL=19950924T010000Z;BYMONTH=9;BYDAY=-1SU
END:STANDARD
BEGIN:DAYLIGHT
TZNAME:CEST
TZOFFSETFROM:+0100
TZOFFSETTO:+0200
DTSTART:19810329T020000
RRULE:FREQ=YEARLY;BYMONTH=3;BYDAY=-1SU
END:DAYLIGHT
BEGIN:STANDARD
TZNAME:CET
TZOFFSETFROM:+0200
TZOFFSETTO:+0100
DTSTART:19961027T030000
RRULE:FREQ=YEARLY;BYMONTH=10;BYDAY=-1SU
END:STANDARD
END:VTIMEZONE
BEGIN:VEVENT
DTSTAMP:20260424T222930Z
DTSTART;TZID=Europe/Berlin:20231028T140000
DTEND;TZID=Europe/Berlin:20231028T190000
SUMMARY:RL-Pool-Süd BSV Filderstadt vs BC Aalen (3)
UID:4ed3a111-602e-4966-9ac0-dac108642244
STATUS:CONFIRMED
LAST-MODIFIED:20240927T112318Z
DESCRIPTION:Regionalliga - Pool Süd\nBegegnungs-Nr: 3\nHeim: BSV Filderstadt\nGast: BC Aalen\n
LOCATION:
CATEGORIES:Saison Pool 2023/24
END:VEVENT
BEGIN:VEVENT
DTSTAMP:20260424T222930Z
DTSTART;TZID=Europe/Berlin:20231029T110000
DTEND;TZID=Europe/Berlin:20231029T160000
SUMMARY:RL-Pool-Süd BSV Filderstadt vs BSC Martinsried (4)
UID:8d15dcb3-6773-48a7-a542-ccc002d3871f
STATUS:CONFIRMED
LAST-MODIFIED:20240927T112937Z
DESCRIPTION:Regionalliga - Pool Süd\nBegegnungs-Nr: 4\nHeim: BSV Filderstadt\nGast: BSC Martinsried\n
LOCATION:
CATEGORIES:Saison Pool 2023/24
END:VEVENT
BEGIN:VEVENT
DTSTAMP:20260424T222930Z
DTSTART;TZID=Europe/Berlin:20231209T140000
DTEND;TZID=Europe/Berlin:20231209T190000
SUMMARY:RL-Pool-Süd BSV Filderstadt vs PBC Jägersburg (5)
UID:2bfa3119-dbf9-4069-a1bd-5f07502c0676
STATUS:CONFIRMED
LAST-MODIFIED:20240927T113330Z
DESCRIPTION:Regionalliga - Pool Süd\nBegegnungs-Nr: 5\nHeim: BSV Filderstadt\nGast: PBC Jägersburg\n
LOCATION:
CATEGORIES:Saison Pool 2023/24
END:VEVENT
BEGIN:VEVENT
DTSTAMP:20260424T222930Z
DTSTART;TZID=Europe/Berlin:20231210T110000
DTEND;TZID=Europe/Berlin:20231210T160000
SUMMARY:RL-Pool-Süd BSV Filderstadt vs BF Wattweiler (6)
UID:35ff3b1a-de47-43aa-8e9c-0851cbb1ce69
STATUS:CONFIRMED
LAST-MODIFIED:20240927T113510Z
DESCRIPTION:Regionalliga - Pool Süd\nBegegnungs-Nr: 6\nHeim: BSV Filderstadt\nGast: BF Wattweiler\n
LOCATION:
CATEGORIES:Saison Pool 2023/24
END:VEVENT
BEGIN:VEVENT
DTSTAMP:20260424T222930Z
DTSTART;TZID=Europe/Berlin:20240114T110000
DTEND;TZID=Europe/Berlin:20240114T160000
SUMMARY:RL-Pool-Süd BSV Filderstadt vs BC Stuttgart 1891 (8)
UID:d7c4b153-e41d-4f23-b54d-9aafd4733e8c
STATUS:CONFIRMED
LAST-MODIFIED:20240927T114030Z
DESCRIPTION:Regionalliga - Pool Süd\nBegegnungs-Nr: 8\nHeim: BSV Filderstadt\nGast: BC Stuttgart 1891\n
LOCATION:
CATEGORIES:Saison Pool 2023/24
END:VEVENT
BEGIN:VEVENT
DTSTAMP:20260424T222930Z
DTSTART;TZID=Europe/Berlin:20240309T140000
DTEND;TZID=Europe/Berlin:20240309T190000
SUMMARY:RL-Pool-Süd BSV Filderstadt vs BC Sindelfingen (9)
UID:88118cb7-90f4-4877-a34a-2183dafcd30e
STATUS:CONFIRMED
LAST-MODIFIED:20240927T114622Z
DESCRIPTION:Regionalliga - Pool Süd\nBegegnungs-Nr: 9\nHeim: BSV Filderstadt\nGast: BC Sindelfingen\n
LOCATION:
CATEGORIES:Saison Pool 2023/24
END:VEVENT
BEGIN:VEVENT
DTSTAMP:20260424T222930Z
DTSTART;TZID=Europe/Berlin:20240310T110000
DTEND;TZID=Europe/Berlin:20240310T160000
SUMMARY:RL-Pool-Süd BSV Filderstadt vs PBC Offenburg (10)
UID:48ce9ace-e4e3-434e-87ce-da2e86d6a41e
STATUS:CONFIRMED
LAST-MODIFIED:20240927T114935Z
DESCRIPTION:Regionalliga - Pool Süd\nBegegnungs-Nr: 10\nHeim: BSV Filderstadt\nGast: PBC Offenburg\n
LOCATION:
CATEGORIES:Saison Pool 2023/24
END:VEVENT
BEGIN:VEVENT
DTSTAMP:20260424T222930Z
DTSTART;TZID=Europe/Berlin:20230923T140000
DTEND;TZID=Europe/Berlin:20230923T190000
SUMMARY:RL-Pool-Süd PBC Offenburg vs BSV Filderstadt (1)
UID:4298e29b-8c2c-4e4b-b1da-7a7d1ca15e5a
STATUS:CONFIRMED
LAST-MODIFIED:20240927T110621Z
DESCRIPTION:Regionalliga - Pool Süd\nBegegnungs-Nr: 1\nHeim: PBC Offenburg\nGast: BSV Filderstadt\n
LOCATION:
CATEGORIES:Saison Pool 2023/24
END:VEVENT
BEGIN:VEVENT
DTSTAMP:20260424T222930Z
DTSTART;TZID=Europe/Berlin:20230924T110000
DTEND;TZID=Europe/Berlin:20230924T160000
SUMMARY:RL-Pool-Süd BC Sindelfingen vs BSV Filderstadt (2)
UID:a636fd92-64d6-4b18-be70-255a5aa46cb5
STATUS:CONFIRMED
LAST-MODIFIED:20240927T110931Z
DESCRIPTION:Regionalliga - Pool Süd\nBegegnungs-Nr: 2\nHeim: BC Sindelfingen\nGast: BSV Filderstadt\n
LOCATION:
CATEGORIES:Saison Pool 2023/24
END:VEVENT
BEGIN:VEVENT
DTSTAMP:20260424T222930Z
DTSTART;TZID=Europe/Berlin:20240113T140000
DTEND;TZID=Europe/Berlin:20240113T190000
SUMMARY:RL-Pool-Süd BC Stuttgart 1891 vs BSV Filderstadt (7)
UID:20bb7151-9483-4f02-bbc6-6bf8c2080b4d
STATUS:CONFIRMED
LAST-MODIFIED:20240927T113915Z
DESCRIPTION:Regionalliga - Pool Süd\nBegegnungs-Nr: 7\nHeim: BC Stuttgart 1891\nGast: BSV Filderstadt\n
LOCATION:
CATEGORIES:Saison Pool 2023/24
END:VEVENT
BEGIN:VEVENT
DTSTAMP:20260424T222930Z
DTSTART;TZID=Europe/Berlin:20240420T140000
DTEND;TZID=Europe/Berlin:20240420T190000
SUMMARY:RL-Pool-Süd BSC Martinsried vs BSV Filderstadt (11)
UID:0cbbdc38-c8d4-43b7-a37c-9b8b9559af8c
STATUS:CONFIRMED
LAST-MODIFIED:20240927T115056Z
DESCRIPTION:Regionalliga - Pool Süd\nBegegnungs-Nr: 11\nHeim: BSC Martinsried\nGast: BSV Filderstadt\n
LOCATION:
CATEGORIES:Saison Pool 2023/24
END:VEVENT
BEGIN:VEVENT
DTSTAMP:20260424T222930Z
DTSTART;TZID=Europe/Berlin:20240421T110000
DTEND;TZID=Europe/Berlin:20240421T160000
SUMMARY:RL-Pool-Süd BC Aalen vs BSV Filderstadt (12)
UID:c952232c-c985-4234-9659-1a8f187242bf
STATUS:CONFIRMED
LAST-MODIFIED:20240927T115518Z
DESCRIPTION:Regionalliga - Pool Süd\nBegegnungs-Nr: 12\nHeim: BC Aalen\nGast: BSV Filderstadt\n
LOCATION:
CATEGORIES:Saison Pool 2023/24
END:VEVENT
BEGIN:VEVENT
DTSTAMP:20260424T222930Z
DTSTART;TZID=Europe/Berlin:20240601T140000
DTEND;TZID=Europe/Berlin:20240601T190000
SUMMARY:RL-Pool-Süd BF Wattweiler vs BSV Filderstadt (13)
UID:3be183fa-028f-462d-99a7-ae058e883875
STATUS:CONFIRMED
LAST-MODIFIED:20240927T115651Z
DESCRIPTION:Regionalliga - Pool Süd\nBegegnungs-Nr: 13\nHeim: BF Wattweiler\nGast: BSV Filderstadt\n
LOCATION:
CATEGORIES:Saison Pool 2023/24
END:VEVENT
BEGIN:VEVENT
DTSTAMP:20260424T222930Z
DTSTART;TZID=Europe/Berlin:20240602T110000
DTEND;TZID=Europe/Berlin:20240602T160000
SUMMARY:RL-Pool-Süd PBC Jägersburg vs BSV Filderstadt (14)
UID:0d772cb9-e3a1-43ad-814c-47208e0244d6
STATUS:CONFIRMED
LAST-MODIFIED:20240927T115832Z
DESCRIPTION:Regionalliga - Pool Süd\nBegegnungs-Nr: 14\nHeim: PBC Jägersburg\nGast: BSV Filderstadt\n
LOCATION:
CATEGORIES:Saison Pool 2023/24
END:VEVENT
END:VCALENDAR
