BEGIN:VCALENDAR
PRODID:-//nuDatenautomaten//framework iCal4j //DE
VERSION:2.0
CALSCALE:GREGORIAN
BEGIN:VTIMEZONE
TZID:Europe/Berlin
LAST-MODIFIED:20260306T231828Z
TZURL:https://www.tzurl.org/zoneinfo/Europe/Berlin
X-LIC-LOCATION:Europe/Berlin
X-PROLEPTIC-TZNAME:LMT
BEGIN:STANDARD
TZNAME:CET
TZOFFSETFROM:+005328
TZOFFSETTO:+0100
DTSTART:18930401T000000
END:STANDARD
BEGIN:DAYLIGHT
TZNAME:CEST
TZOFFSETFROM:+0100
TZOFFSETTO:+0200
DTSTART:19160430T230000
RDATE:19400401T020000
RDATE:19430329T020000
RDATE:19460414T020000
RDATE:19470406T030000
RDATE:19480418T020000
RDATE:19490410T020000
RDATE:19800406T020000
END:DAYLIGHT
BEGIN:STANDARD
TZNAME:CET
TZOFFSETFROM:+0200
TZOFFSETTO:+0100
DTSTART:19161001T010000
RDATE:19421102T030000
RDATE:19431004T030000
RDATE:19441002T030000
RDATE:19451118T030000
RDATE:19461007T030000
END:STANDARD
BEGIN:DAYLIGHT
TZNAME:CEST
TZOFFSETFROM:+0100
TZOFFSETTO:+0200
DTSTART:19170416T020000
RRULE:FREQ=YEARLY;UNTIL=19180415T010000Z;BYMONTH=4;BYDAY=3MO
END:DAYLIGHT
BEGIN:STANDARD
TZNAME:CET
TZOFFSETFROM:+0200
TZOFFSETTO:+0100
DTSTART:19170917T030000
RRULE:FREQ=YEARLY;UNTIL=19180916T010000Z;BYMONTH=9;BYDAY=3MO
END:STANDARD
BEGIN:DAYLIGHT
TZNAME:CEST
TZOFFSETFROM:+0100
TZOFFSETTO:+0200
DTSTART:19440403T020000
RRULE:FREQ=YEARLY;UNTIL=19450402T010000Z;BYMONTH=4;BYDAY=1MO
END:DAYLIGHT
BEGIN:DAYLIGHT
TZNAME:CEMT
TZOFFSETFROM:+0200
TZOFFSETTO:+0300
DTSTART:19450524T020000
RDATE:19470511T030000
END:DAYLIGHT
BEGIN:DAYLIGHT
TZNAME:CEST
TZOFFSETFROM:+0300
TZOFFSETTO:+0200
DTSTART:19450924T030000
RDATE:19470629T030000
END:DAYLIGHT
BEGIN:STANDARD
TZNAME:CET
TZOFFSETFROM:+0100
TZOFFSETTO:+0100
DTSTART:19460101T000000
RDATE:19800101T000000
END:STANDARD
BEGIN:STANDARD
TZNAME:CET
TZOFFSETFROM:+0200
TZOFFSETTO:+0100
DTSTART:19471005T030000
RRULE:FREQ=YEARLY;UNTIL=19491002T010000Z;BYMONTH=10;BYDAY=1SU
END:STANDARD
BEGIN:STANDARD
TZNAME:CET
TZOFFSETFROM:+0200
TZOFFSETTO:+0100
DTSTART:19800928T030000
RRULE:FREQ=YEARLY;UNTIL=19950924T010000Z;BYMONTH=9;BYDAY=-1SU
END:STANDARD
BEGIN:DAYLIGHT
TZNAME:CEST
TZOFFSETFROM:+0100
TZOFFSETTO:+0200
DTSTART:19810329T020000
RRULE:FREQ=YEARLY;BYMONTH=3;BYDAY=-1SU
END:DAYLIGHT
BEGIN:STANDARD
TZNAME:CET
TZOFFSETFROM:+0200
TZOFFSETTO:+0100
DTSTART:19961027T030000
RRULE:FREQ=YEARLY;BYMONTH=10;BYDAY=-1SU
END:STANDARD
END:VTIMEZONE
BEGIN:VEVENT
DTSTAMP:20260420T222303Z
DTSTART;TZID=Europe/Berlin:20230923T140000
DTEND;TZID=Europe/Berlin:20230923T190000
SUMMARY:RL-Pool-Süd BC Sindelfingen vs BC Stuttgart 1891 (1)
UID:51c2e88b-cef1-4b05-96d3-1f77e48ece60
STATUS:CONFIRMED
LAST-MODIFIED:20240927T110749Z
DESCRIPTION:Regionalliga - Pool Süd\nBegegnungs-Nr: 1\nHeim: BC Sindelfingen\nGast: BC Stuttgart 1891\n
LOCATION:
CATEGORIES:Saison Pool 2023/24
END:VEVENT
BEGIN:VEVENT
DTSTAMP:20260420T222303Z
DTSTART;TZID=Europe/Berlin:20230924T110000
DTEND;TZID=Europe/Berlin:20230924T160000
SUMMARY:RL-Pool-Süd BC Sindelfingen vs BSV Filderstadt (2)
UID:a636fd92-64d6-4b18-be70-255a5aa46cb5
STATUS:CONFIRMED
LAST-MODIFIED:20240927T110931Z
DESCRIPTION:Regionalliga - Pool Süd\nBegegnungs-Nr: 2\nHeim: BC Sindelfingen\nGast: BSV Filderstadt\n
LOCATION:
CATEGORIES:Saison Pool 2023/24
END:VEVENT
BEGIN:VEVENT
DTSTAMP:20260420T222303Z
DTSTART;TZID=Europe/Berlin:20240114T110000
DTEND;TZID=Europe/Berlin:20240114T160000
SUMMARY:RL-Pool-Süd BC Sindelfingen vs PBC Offenburg (8)
UID:37727e74-9f9b-4d65-8e52-6551856cd35b
STATUS:CONFIRMED
LAST-MODIFIED:20240927T114405Z
DESCRIPTION:Regionalliga - Pool Süd\nBegegnungs-Nr: 8\nHeim: BC Sindelfingen\nGast: PBC Offenburg\n
LOCATION:
CATEGORIES:Saison Pool 2023/24
END:VEVENT
BEGIN:VEVENT
DTSTAMP:20260420T222303Z
DTSTART;TZID=Europe/Berlin:20240420T140000
DTEND;TZID=Europe/Berlin:20240420T190000
SUMMARY:RL-Pool-Süd BC Sindelfingen vs BF Wattweiler (11)
UID:5af08009-8b38-41f0-b1df-339471165289
STATUS:CONFIRMED
LAST-MODIFIED:20240927T115233Z
DESCRIPTION:Regionalliga - Pool Süd\nBegegnungs-Nr: 11\nHeim: BC Sindelfingen\nGast: BF Wattweiler\n
LOCATION:
CATEGORIES:Saison Pool 2023/24
END:VEVENT
BEGIN:VEVENT
DTSTAMP:20260420T222303Z
DTSTART;TZID=Europe/Berlin:20240421T110000
DTEND;TZID=Europe/Berlin:20240421T160000
SUMMARY:RL-Pool-Süd BC Sindelfingen vs PBC Jägersburg (12)
UID:72ab74e8-569f-42b7-99bc-f6eb361c0bd3
STATUS:CONFIRMED
LAST-MODIFIED:20240927T115443Z
DESCRIPTION:Regionalliga - Pool Süd\nBegegnungs-Nr: 12\nHeim: BC Sindelfingen\nGast: PBC Jägersburg\n
LOCATION:
CATEGORIES:Saison Pool 2023/24
END:VEVENT
BEGIN:VEVENT
DTSTAMP:20260420T222303Z
DTSTART;TZID=Europe/Berlin:20240601T140000
DTEND;TZID=Europe/Berlin:20240601T190000
SUMMARY:RL-Pool-Süd BC Sindelfingen vs BSC Martinsried (13)
UID:6dafdecc-8b70-40a3-a357-36c266f513ef
STATUS:CONFIRMED
LAST-MODIFIED:20240927T115631Z
DESCRIPTION:Regionalliga - Pool Süd\nBegegnungs-Nr: 13\nHeim: BC Sindelfingen\nGast: BSC Martinsried\n
LOCATION:
CATEGORIES:Saison Pool 2023/24
END:VEVENT
BEGIN:VEVENT
DTSTAMP:20260420T222303Z
DTSTART;TZID=Europe/Berlin:20240602T110000
DTEND;TZID=Europe/Berlin:20240602T160000
SUMMARY:RL-Pool-Süd BC Sindelfingen vs BC Aalen (14)
UID:aa9dda42-0c20-4ad5-b107-2b93145c51af
STATUS:CONFIRMED
LAST-MODIFIED:20240927T115941Z
DESCRIPTION:Regionalliga - Pool Süd\nBegegnungs-Nr: 14\nHeim: BC Sindelfingen\nGast: BC Aalen\n
LOCATION:
CATEGORIES:Saison Pool 2023/24
END:VEVENT
BEGIN:VEVENT
DTSTAMP:20260420T222303Z
DTSTART;TZID=Europe/Berlin:20231209T140000
DTEND;TZID=Europe/Berlin:20231209T190000
SUMMARY:RL-Pool-Süd BSC Martinsried vs BC Sindelfingen (5)
UID:1773f3df-b653-4614-8743-2904caa6e129
STATUS:CONFIRMED
LAST-MODIFIED:20240927T113147Z
DESCRIPTION:Regionalliga - Pool Süd\nBegegnungs-Nr: 5\nHeim: BSC Martinsried\nGast: BC Sindelfingen\n
LOCATION:
CATEGORIES:Saison Pool 2023/24
END:VEVENT
BEGIN:VEVENT
DTSTAMP:20260420T222303Z
DTSTART;TZID=Europe/Berlin:20240309T140000
DTEND;TZID=Europe/Berlin:20240309T190000
SUMMARY:RL-Pool-Süd BSV Filderstadt vs BC Sindelfingen (9)
UID:88118cb7-90f4-4877-a34a-2183dafcd30e
STATUS:CONFIRMED
LAST-MODIFIED:20240927T114622Z
DESCRIPTION:Regionalliga - Pool Süd\nBegegnungs-Nr: 9\nHeim: BSV Filderstadt\nGast: BC Sindelfingen\n
LOCATION:
CATEGORIES:Saison Pool 2023/24
END:VEVENT
BEGIN:VEVENT
DTSTAMP:20260420T222303Z
DTSTART;TZID=Europe/Berlin:20231210T110000
DTEND;TZID=Europe/Berlin:20231210T160000
SUMMARY:RL-Pool-Süd BC Aalen vs BC Sindelfingen (6)
UID:b697e464-cd2b-4bf0-a4a7-f684ee2d1384
STATUS:CONFIRMED
LAST-MODIFIED:20240927T113423Z
DESCRIPTION:Regionalliga - Pool Süd\nBegegnungs-Nr: 6\nHeim: BC Aalen\nGast: BC Sindelfingen\n
LOCATION:
CATEGORIES:Saison Pool 2023/24
END:VEVENT
BEGIN:VEVENT
DTSTAMP:20260420T222303Z
DTSTART;TZID=Europe/Berlin:20231028T140000
DTEND;TZID=Europe/Berlin:20231028T190000
SUMMARY:RL-Pool-Süd PBC Jägersburg vs BC Sindelfingen (3)
UID:7d27c909-a285-4b56-b2db-aaba485e8d79
STATUS:CONFIRMED
LAST-MODIFIED:20240927T112346Z
DESCRIPTION:Regionalliga - Pool Süd\nBegegnungs-Nr: 3\nHeim: PBC Jägersburg\nGast: BC Sindelfingen\n
LOCATION:
CATEGORIES:Saison Pool 2023/24
END:VEVENT
BEGIN:VEVENT
DTSTAMP:20260420T222303Z
DTSTART;TZID=Europe/Berlin:20240113T140000
DTEND;TZID=Europe/Berlin:20240113T190000
SUMMARY:RL-Pool-Süd PBC Offenburg vs BC Sindelfingen (7)
UID:3cb5abd1-7260-45c8-a205-ad46c9e5f6be
STATUS:CONFIRMED
LAST-MODIFIED:20240927T113753Z
DESCRIPTION:Regionalliga - Pool Süd\nBegegnungs-Nr: 7\nHeim: PBC Offenburg\nGast: BC Sindelfingen\n
LOCATION:
CATEGORIES:Saison Pool 2023/24
END:VEVENT
BEGIN:VEVENT
DTSTAMP:20260420T222303Z
DTSTART;TZID=Europe/Berlin:20231029T110000
DTEND;TZID=Europe/Berlin:20231029T160000
SUMMARY:RL-Pool-Süd BF Wattweiler vs BC Sindelfingen (4)
UID:c1140cf9-d26d-4360-9c8f-a167bfc1a735
STATUS:CONFIRMED
LAST-MODIFIED:20240927T112451Z
DESCRIPTION:Regionalliga - Pool Süd\nBegegnungs-Nr: 4\nHeim: BF Wattweiler\nGast: BC Sindelfingen\n
LOCATION:
CATEGORIES:Saison Pool 2023/24
END:VEVENT
BEGIN:VEVENT
DTSTAMP:20260420T222303Z
DTSTART;TZID=Europe/Berlin:20240310T110000
DTEND;TZID=Europe/Berlin:20240310T160000
SUMMARY:RL-Pool-Süd BC Stuttgart 1891 vs BC Sindelfingen (10)
UID:2d36854a-0314-4841-b594-caa2800182fa
STATUS:CONFIRMED
LAST-MODIFIED:20240927T115018Z
DESCRIPTION:Regionalliga - Pool Süd\nBegegnungs-Nr: 10\nHeim: BC Stuttgart 1891\nGast: BC Sindelfingen\n
LOCATION:
CATEGORIES:Saison Pool 2023/24
END:VEVENT
END:VCALENDAR
