BEGIN:VCALENDAR
PRODID:-//nuDatenautomaten//framework iCal4j //DE
VERSION:2.0
CALSCALE:GREGORIAN
BEGIN:VTIMEZONE
TZID:Europe/Berlin
LAST-MODIFIED:20260306T231828Z
TZURL:https://www.tzurl.org/zoneinfo/Europe/Berlin
X-LIC-LOCATION:Europe/Berlin
X-PROLEPTIC-TZNAME:LMT
BEGIN:STANDARD
TZNAME:CET
TZOFFSETFROM:+005328
TZOFFSETTO:+0100
DTSTART:18930401T000000
END:STANDARD
BEGIN:DAYLIGHT
TZNAME:CEST
TZOFFSETFROM:+0100
TZOFFSETTO:+0200
DTSTART:19160430T230000
RDATE:19400401T020000
RDATE:19430329T020000
RDATE:19460414T020000
RDATE:19470406T030000
RDATE:19480418T020000
RDATE:19490410T020000
RDATE:19800406T020000
END:DAYLIGHT
BEGIN:STANDARD
TZNAME:CET
TZOFFSETFROM:+0200
TZOFFSETTO:+0100
DTSTART:19161001T010000
RDATE:19421102T030000
RDATE:19431004T030000
RDATE:19441002T030000
RDATE:19451118T030000
RDATE:19461007T030000
END:STANDARD
BEGIN:DAYLIGHT
TZNAME:CEST
TZOFFSETFROM:+0100
TZOFFSETTO:+0200
DTSTART:19170416T020000
RRULE:FREQ=YEARLY;UNTIL=19180415T010000Z;BYMONTH=4;BYDAY=3MO
END:DAYLIGHT
BEGIN:STANDARD
TZNAME:CET
TZOFFSETFROM:+0200
TZOFFSETTO:+0100
DTSTART:19170917T030000
RRULE:FREQ=YEARLY;UNTIL=19180916T010000Z;BYMONTH=9;BYDAY=3MO
END:STANDARD
BEGIN:DAYLIGHT
TZNAME:CEST
TZOFFSETFROM:+0100
TZOFFSETTO:+0200
DTSTART:19440403T020000
RRULE:FREQ=YEARLY;UNTIL=19450402T010000Z;BYMONTH=4;BYDAY=1MO
END:DAYLIGHT
BEGIN:DAYLIGHT
TZNAME:CEMT
TZOFFSETFROM:+0200
TZOFFSETTO:+0300
DTSTART:19450524T020000
RDATE:19470511T030000
END:DAYLIGHT
BEGIN:DAYLIGHT
TZNAME:CEST
TZOFFSETFROM:+0300
TZOFFSETTO:+0200
DTSTART:19450924T030000
RDATE:19470629T030000
END:DAYLIGHT
BEGIN:STANDARD
TZNAME:CET
TZOFFSETFROM:+0100
TZOFFSETTO:+0100
DTSTART:19460101T000000
RDATE:19800101T000000
END:STANDARD
BEGIN:STANDARD
TZNAME:CET
TZOFFSETFROM:+0200
TZOFFSETTO:+0100
DTSTART:19471005T030000
RRULE:FREQ=YEARLY;UNTIL=19491002T010000Z;BYMONTH=10;BYDAY=1SU
END:STANDARD
BEGIN:STANDARD
TZNAME:CET
TZOFFSETFROM:+0200
TZOFFSETTO:+0100
DTSTART:19800928T030000
RRULE:FREQ=YEARLY;UNTIL=19950924T010000Z;BYMONTH=9;BYDAY=-1SU
END:STANDARD
BEGIN:DAYLIGHT
TZNAME:CEST
TZOFFSETFROM:+0100
TZOFFSETTO:+0200
DTSTART:19810329T020000
RRULE:FREQ=YEARLY;BYMONTH=3;BYDAY=-1SU
END:DAYLIGHT
BEGIN:STANDARD
TZNAME:CET
TZOFFSETFROM:+0200
TZOFFSETTO:+0100
DTSTART:19961027T030000
RRULE:FREQ=YEARLY;BYMONTH=10;BYDAY=-1SU
END:STANDARD
END:VTIMEZONE
BEGIN:VEVENT
DTSTAMP:20260424T075603Z
DTSTART;TZID=Europe/Berlin:20230923T140000
DTEND;TZID=Europe/Berlin:20230923T190000
SUMMARY:RL-Pool-Süd PBC Offenburg vs BSV Filderstadt (1)
UID:4298e29b-8c2c-4e4b-b1da-7a7d1ca15e5a
STATUS:CONFIRMED
LAST-MODIFIED:20240927T110621Z
DESCRIPTION:Regionalliga - Pool Süd\nBegegnungs-Nr: 1\nHeim: PBC Offenburg\nGast: BSV Filderstadt\n
LOCATION:
CATEGORIES:Saison Pool 2023/24
END:VEVENT
BEGIN:VEVENT
DTSTAMP:20260424T075603Z
DTSTART;TZID=Europe/Berlin:20230924T110000
DTEND;TZID=Europe/Berlin:20230924T160000
SUMMARY:RL-Pool-Süd PBC Offenburg vs BC Stuttgart 1891 (2)
UID:a688f1d2-05b6-4d11-ae78-a6a500d2c11d
STATUS:CONFIRMED
LAST-MODIFIED:20240927T111116Z
DESCRIPTION:Regionalliga - Pool Süd\nBegegnungs-Nr: 2\nHeim: PBC Offenburg\nGast: BC Stuttgart 1891\n
LOCATION:
CATEGORIES:Saison Pool 2023/24
END:VEVENT
BEGIN:VEVENT
DTSTAMP:20260424T075603Z
DTSTART;TZID=Europe/Berlin:20240113T140000
DTEND;TZID=Europe/Berlin:20240113T190000
SUMMARY:RL-Pool-Süd PBC Offenburg vs BC Sindelfingen (7)
UID:3cb5abd1-7260-45c8-a205-ad46c9e5f6be
STATUS:CONFIRMED
LAST-MODIFIED:20240927T113753Z
DESCRIPTION:Regionalliga - Pool Süd\nBegegnungs-Nr: 7\nHeim: PBC Offenburg\nGast: BC Sindelfingen\n
LOCATION:
CATEGORIES:Saison Pool 2023/24
END:VEVENT
BEGIN:VEVENT
DTSTAMP:20260424T075603Z
DTSTART;TZID=Europe/Berlin:20240420T140000
DTEND;TZID=Europe/Berlin:20240420T190000
SUMMARY:RL-Pool-Süd PBC Offenburg vs PBC Jägersburg (11)
UID:97fcd10f-a78b-468a-bc74-39f2c078062b
STATUS:CONFIRMED
LAST-MODIFIED:20240927T115311Z
DESCRIPTION:Regionalliga - Pool Süd\nBegegnungs-Nr: 11\nHeim: PBC Offenburg\nGast: PBC Jägersburg\n
LOCATION:
CATEGORIES:Saison Pool 2023/24
END:VEVENT
BEGIN:VEVENT
DTSTAMP:20260424T075603Z
DTSTART;TZID=Europe/Berlin:20240421T110000
DTEND;TZID=Europe/Berlin:20240421T160000
SUMMARY:RL-Pool-Süd PBC Offenburg vs BF Wattweiler (12)
UID:8117fc1c-ca7a-412a-a6dc-061e068e9f70
STATUS:CONFIRMED
LAST-MODIFIED:20240927T115400Z
DESCRIPTION:Regionalliga - Pool Süd\nBegegnungs-Nr: 12\nHeim: PBC Offenburg\nGast: BF Wattweiler\n
LOCATION:
CATEGORIES:Saison Pool 2023/24
END:VEVENT
BEGIN:VEVENT
DTSTAMP:20260424T075603Z
DTSTART;TZID=Europe/Berlin:20240601T140000
DTEND;TZID=Europe/Berlin:20240601T190000
SUMMARY:RL-Pool-Süd PBC Offenburg vs BC Aalen (13)
UID:c534a34f-5fb2-4b16-beb6-6003865a8c8e
STATUS:CONFIRMED
LAST-MODIFIED:20240927T115744Z
DESCRIPTION:Regionalliga - Pool Süd\nBegegnungs-Nr: 13\nHeim: PBC Offenburg\nGast: BC Aalen\n
LOCATION:
CATEGORIES:Saison Pool 2023/24
END:VEVENT
BEGIN:VEVENT
DTSTAMP:20260424T075603Z
DTSTART;TZID=Europe/Berlin:20240602T110000
DTEND;TZID=Europe/Berlin:20240602T160000
SUMMARY:RL-Pool-Süd PBC Offenburg vs BSC Martinsried (14)
UID:2bd97d34-5eac-4380-a8c2-5cfc4ddd1752
STATUS:CONFIRMED
LAST-MODIFIED:20240927T115905Z
DESCRIPTION:Regionalliga - Pool Süd\nBegegnungs-Nr: 14\nHeim: PBC Offenburg\nGast: BSC Martinsried\n
LOCATION:
CATEGORIES:Saison Pool 2023/24
END:VEVENT
BEGIN:VEVENT
DTSTAMP:20260424T075603Z
DTSTART;TZID=Europe/Berlin:20231028T140000
DTEND;TZID=Europe/Berlin:20231028T190000
SUMMARY:RL-Pool-Süd BF Wattweiler vs PBC Offenburg (3)
UID:d71c6e84-bcc0-4070-acd0-66b3a1b6af03
STATUS:CONFIRMED
LAST-MODIFIED:20240927T112245Z
DESCRIPTION:Regionalliga - Pool Süd\nBegegnungs-Nr: 3\nHeim: BF Wattweiler\nGast: PBC Offenburg\n
LOCATION:
CATEGORIES:Saison Pool 2023/24
END:VEVENT
BEGIN:VEVENT
DTSTAMP:20260424T075603Z
DTSTART;TZID=Europe/Berlin:20231029T110000
DTEND;TZID=Europe/Berlin:20231029T160000
SUMMARY:RL-Pool-Süd PBC Jägersburg vs PBC Offenburg (4)
UID:dfd80037-847d-4f1b-9b94-e55940ecea84
STATUS:CONFIRMED
LAST-MODIFIED:20240927T113024Z
DESCRIPTION:Regionalliga - Pool Süd\nBegegnungs-Nr: 4\nHeim: PBC Jägersburg\nGast: PBC Offenburg\n
LOCATION:
CATEGORIES:Saison Pool 2023/24
END:VEVENT
BEGIN:VEVENT
DTSTAMP:20260424T075603Z
DTSTART;TZID=Europe/Berlin:20231209T140000
DTEND;TZID=Europe/Berlin:20231209T190000
SUMMARY:RL-Pool-Süd BC Aalen vs PBC Offenburg (5)
UID:5fe1529f-0498-41a2-9298-9560c26ebea9
STATUS:CONFIRMED
LAST-MODIFIED:20240927T113123Z
DESCRIPTION:Regionalliga - Pool Süd\nBegegnungs-Nr: 5\nHeim: BC Aalen\nGast: PBC Offenburg\n
LOCATION:
CATEGORIES:Saison Pool 2023/24
END:VEVENT
BEGIN:VEVENT
DTSTAMP:20260424T075603Z
DTSTART;TZID=Europe/Berlin:20231210T110000
DTEND;TZID=Europe/Berlin:20231210T160000
SUMMARY:RL-Pool-Süd BSC Martinsried vs PBC Offenburg (6)
UID:b9118d88-5081-404f-88a4-614f566a066c
STATUS:CONFIRMED
LAST-MODIFIED:20240927T113600Z
DESCRIPTION:Regionalliga - Pool Süd\nBegegnungs-Nr: 6\nHeim: BSC Martinsried\nGast: PBC Offenburg\n
LOCATION:
CATEGORIES:Saison Pool 2023/24
END:VEVENT
BEGIN:VEVENT
DTSTAMP:20260424T075603Z
DTSTART;TZID=Europe/Berlin:20240114T110000
DTEND;TZID=Europe/Berlin:20240114T160000
SUMMARY:RL-Pool-Süd BC Sindelfingen vs PBC Offenburg (8)
UID:37727e74-9f9b-4d65-8e52-6551856cd35b
STATUS:CONFIRMED
LAST-MODIFIED:20240927T114405Z
DESCRIPTION:Regionalliga - Pool Süd\nBegegnungs-Nr: 8\nHeim: BC Sindelfingen\nGast: PBC Offenburg\n
LOCATION:
CATEGORIES:Saison Pool 2023/24
END:VEVENT
BEGIN:VEVENT
DTSTAMP:20260424T075603Z
DTSTART;TZID=Europe/Berlin:20240309T140000
DTEND;TZID=Europe/Berlin:20240309T190000
SUMMARY:RL-Pool-Süd BC Stuttgart 1891 vs PBC Offenburg (9)
UID:c92797ec-bc42-4cfc-a313-d730a7cbce85
STATUS:CONFIRMED
LAST-MODIFIED:20240927T114514Z
DESCRIPTION:Regionalliga - Pool Süd\nBegegnungs-Nr: 9\nHeim: BC Stuttgart 1891\nGast: PBC Offenburg\n
LOCATION:
CATEGORIES:Saison Pool 2023/24
END:VEVENT
BEGIN:VEVENT
DTSTAMP:20260424T075603Z
DTSTART;TZID=Europe/Berlin:20240310T110000
DTEND;TZID=Europe/Berlin:20240310T160000
SUMMARY:RL-Pool-Süd BSV Filderstadt vs PBC Offenburg (10)
UID:48ce9ace-e4e3-434e-87ce-da2e86d6a41e
STATUS:CONFIRMED
LAST-MODIFIED:20240927T114935Z
DESCRIPTION:Regionalliga - Pool Süd\nBegegnungs-Nr: 10\nHeim: BSV Filderstadt\nGast: PBC Offenburg\n
LOCATION:
CATEGORIES:Saison Pool 2023/24
END:VEVENT
END:VCALENDAR
